
BEGIN:VCALENDAR
VERSION:2.0
PRODID:-//wp-events-plugin.com//6.6.3//EN
TZID:Europe/Berlin
X-WR-TIMEZONE:Europe/Berlin
BEGIN:VEVENT
UID:0-156@veranstaltungen.muenchen.de
DTSTART;TZID=Europe/Berlin:20251014T183000
DTEND;TZID=Europe/Berlin:20251014T194500
DTSTAMP:20251006T102529Z
URL:https://veranstaltungen.muenchen.de/stadtarchiv/veranstaltungen/magazi
 nfuehrung/
SUMMARY:Führung durch die Magazine des Stadtarchivs
DESCRIPTION:Stadtarchiv? Was ist das?\n\nFrau Angela Stilwell und Frau Dr. 
 Ulrike Claudia Hofmann klären sie auf\, was sich hinter dem Archiv der St
 adt München verbirgt. Dabei bekommen Sie auch exklusiv einen Blick hinter
  die Kulissen\, in Bereiche\, die normalerweise der Öffentlichkeit nicht 
 zugänglich sind.\n\n&nbsp\;\n\nDie Anmeldung ist hier ab 6. Oktober mögl
 ich.\n\n&nbsp\;\n\nDie Teilnehmer*innenzahl ist auf 20 Personen begrenzt.\
 n\n&nbsp\;\n\nBitte melden Sie sich unter angela.stilwell@muenchen.de\, we
 nn Sie kurzfristig nicht teilnehmen können\, um Plätze wieder frei zu ge
 ben.\n\n&nbsp\;
CATEGORIES:Einblicke
LOCATION:Stadtarchiv München\, Winzererstraße 68\, München\, Bayern\, 80
 797\, Deutschland
GEO:48.16041;11.56204
X-APPLE-STRUCTURED-LOCATION;VALUE=URI;X-ADDRESS=Winzererstraße 68\, Münch
 en\, Bayern\, 80797\, Deutschland;X-APPLE-RADIUS=100;X-TITLE=Stadtarchiv M
 ünchen:geo:48.16041,11.56204
END:VEVENT
BEGIN:VTIMEZONE
TZID:Europe/Berlin
X-LIC-LOCATION:Europe/Berlin
BEGIN:DAYLIGHT
DTSTART:20250330T030000
TZOFFSETFROM:+0100
TZOFFSETTO:+0200
TZNAME:CEST
END:DAYLIGHT
END:VTIMEZONE
END:VCALENDAR