
BEGIN:VCALENDAR
VERSION:2.0
PRODID:-//wp-events-plugin.com//6.6.3//EN
TZID:Europe/Berlin
X-WR-TIMEZONE:Europe/Berlin
BEGIN:VEVENT
UID:0-310@veranstaltungen.muenchen.de
DTSTART;TZID=Europe/Berlin:20210521T093000
DTEND;TZID=Europe/Berlin:20210521T120000
DTSTAMP:20210512T105136Z
URL:https://veranstaltungen.muenchen.de/soz/veranstaltungen/wohnungsantrag
 -online-und-das-neue-punktesystem-2/
SUMMARY:Wohnungsantrag Online und das neue Punktesystem (Kurs 2)
DESCRIPTION:Seit 30.07.2020 können Wohnungsanträge auch online unter www.
 sowon-muenchen.de gestellt werden. Damit wurde der letzte Baustein des Ges
 amtprozesses – von der Antragstellung bis zur Wohnungsvergabe – digita
 lisiert.\n\n&nbsp\;\n\nDes Weiteren wurden die Dringlichkeitspunkte zur Be
 wertung der Wohn- und Lebenssituation (Punktetabelle) überarbeitet.\n\n&n
 bsp\;\n\nIm Rahmen dieser Online-Informationsveranstaltung möchten wir Si
 e über die Neuerungen informieren. Dabei werden unter anderem folgende Fr
 agen rund um die Registrierung und Vergabe von 'Sozialwohnungen' thematisi
 ert:\n\n&nbsp\;\n\n• Wer kann sich für sozial geförderten Wohnraum reg
 istrieren lassen?\n• Wie setzt sich das neue Punktesystem zusammen?\n•
  Wie stelle ich einen Onlineantrag auf SOWON?\n• Wie funktioniert die Wo
 hnungsvergabe?\n• Wie hoch sind die Chancen\, eine geförderte Wohnung z
 u erhalten?\n\n&nbsp\;\n\nWir freuen uns auf Ihre Anmeldung.\n\n&nbsp\;\n\
 nIhre Fachsteuerung Wohnen
END:VEVENT
BEGIN:VTIMEZONE
TZID:Europe/Berlin
X-LIC-LOCATION:Europe/Berlin
BEGIN:DAYLIGHT
DTSTART:20210328T030000
TZOFFSETFROM:+0100
TZOFFSETTO:+0200
TZNAME:CEST
END:DAYLIGHT
END:VTIMEZONE
END:VCALENDAR