
BEGIN:VCALENDAR
VERSION:2.0
PRODID:-//wp-events-plugin.com//6.6.3//EN
TZID:Europe/Berlin
X-WR-TIMEZONE:Europe/Berlin
BEGIN:VEVENT
UID:0-589@veranstaltungen.muenchen.de
DTSTART;TZID=Europe/Berlin:20240715T140000
DTEND;TZID=Europe/Berlin:20240715T160000
DTSTAMP:20240710T090829Z
URL:https://veranstaltungen.muenchen.de/soz/veranstaltungen/sprechstunde-b
 etreuungsgericht/
SUMMARY:"Sprechstunde" Betreuungsgericht
DESCRIPTION:In der Folge an den Fachaustausch vom 11. Juni 2024 wird die Ge
 legenheit zum Gespräch und weiteren konstruktiven Austausch angeboten.\nZ
 iel ist\, die Umsetzung der gesetzlichen Vorgaben versus der Belange beruf
 licher Betreuer*innen und Vereinsbetreuer*innen mehr in den Fokus zu stell
 en und "miteinander zu reden".
LOCATION:Amtsgericht München\, Pacellistraße 5\, München\, Bayern\, 8031
 5\, Deutschland
GEO:48.140499;11.569977
X-APPLE-STRUCTURED-LOCATION;VALUE=URI;X-ADDRESS=Pacellistraße 5\, München
 \, Bayern\, 80315\, Deutschland;X-APPLE-RADIUS=100;X-TITLE=Amtsgericht Mü
 nchen:geo:48.140499,11.569977
END:VEVENT
BEGIN:VTIMEZONE
TZID:Europe/Berlin
X-LIC-LOCATION:Europe/Berlin
BEGIN:DAYLIGHT
DTSTART:20240331T030000
TZOFFSETFROM:+0100
TZOFFSETTO:+0200
TZNAME:CEST
END:DAYLIGHT
END:VTIMEZONE
END:VCALENDAR