
BEGIN:VCALENDAR
VERSION:2.0
PRODID:-//wp-events-plugin.com//6.6.3//EN
TZID:Europe/Berlin
X-WR-TIMEZONE:Europe/Berlin
BEGIN:VEVENT
UID:0-718@veranstaltungen.muenchen.de
DTSTART;TZID=Europe/Berlin:20250714T140000
DTEND;TZID=Europe/Berlin:20250714T160000
DTSTAMP:20250625T134616Z
URL:https://veranstaltungen.muenchen.de/soz/veranstaltungen/sprechstunde-b
 etreuungsgericht-4/
SUMMARY:Sprechstunde Betreuungsgericht
DESCRIPTION:Das Betreuungsgericht München und die Betreuungsstelle der LHM
  möchten die konstruktive Zusammenarbeit mit den beruflichen Betreuer*inn
 en/Vereinsbetreuer*innen gerne fortführen und laden ein zum nächsten Aus
 tausch im Rahmen der "4. Sprechstunde".\n\n&nbsp\;\n\nHinweis:\nDie Verans
 taltung richtet sich nur an Betreuer*innen mit Registrierung in den Stammb
 ehörden Landkreis &amp\; Stadt München.
LOCATION:Amtsgericht München\, Pacellistraße 5\, München\, Bayern\, 8031
 5\, Deutschland
GEO:48.140499;11.569977
X-APPLE-STRUCTURED-LOCATION;VALUE=URI;X-ADDRESS=Pacellistraße 5\, München
 \, Bayern\, 80315\, Deutschland;X-APPLE-RADIUS=100;X-TITLE=Amtsgericht Mü
 nchen:geo:48.140499,11.569977
END:VEVENT
BEGIN:VTIMEZONE
TZID:Europe/Berlin
X-LIC-LOCATION:Europe/Berlin
BEGIN:DAYLIGHT
DTSTART:20250330T030000
TZOFFSETFROM:+0100
TZOFFSETTO:+0200
TZNAME:CEST
END:DAYLIGHT
END:VTIMEZONE
END:VCALENDAR