
BEGIN:VCALENDAR
VERSION:2.0
PRODID:-//wp-events-plugin.com//6.6.3//EN
TZID:Europe/Berlin
X-WR-TIMEZONE:Europe/Berlin
BEGIN:VEVENT
UID:0-655@veranstaltungen.muenchen.de
DTSTART;TZID=Europe/Berlin:20250225T140000
DTEND;TZID=Europe/Berlin:20250225T160000
DTSTAMP:20250203T131625Z
URL:https://veranstaltungen.muenchen.de/soz/veranstaltungen/sprechstunde-b
 etreuungsgericht-3/
SUMMARY:"Sprechstunde" Betreuungsgericht
DESCRIPTION:Einladung zur "3. Sprechstunde" - Fortführung des konstruktive
 n Austauschs zwischen beruflichen Betreuer*innen/Vereinsbetreuer*innen und
  Vertretern des Betreuungsgerichtes.\n\n&nbsp\;\n\nHinweis:\n\nDie Veranst
 altung richtet sich an Betreuer*innen mit Registrierung in den Stammbehör
 den des Landkreises und der Stadt München\, sowie an Betreuer*innen mit R
 egistrierung in anderen Stammbehörden und die vom AG München bestellt si
 nd.
LOCATION:Amtsgericht München\, Pacellistraße 5\, München\, Bayern\, 8031
 5\, Deutschland
GEO:48.140499;11.569977
X-APPLE-STRUCTURED-LOCATION;VALUE=URI;X-ADDRESS=Pacellistraße 5\, München
 \, Bayern\, 80315\, Deutschland;X-APPLE-RADIUS=100;X-TITLE=Amtsgericht Mü
 nchen:geo:48.140499,11.569977
END:VEVENT
BEGIN:VTIMEZONE
TZID:Europe/Berlin
X-LIC-LOCATION:Europe/Berlin
BEGIN:STANDARD
DTSTART:20241027T020000
TZOFFSETFROM:+0200
TZOFFSETTO:+0100
TZNAME:CET
END:STANDARD
END:VTIMEZONE
END:VCALENDAR