
BEGIN:VCALENDAR
VERSION:2.0
PRODID:-//wp-events-plugin.com//6.6.3//EN
TZID:Europe/Berlin
X-WR-TIMEZONE:Europe/Berlin
BEGIN:VEVENT
UID:0-856@veranstaltungen.muenchen.de
DTSTART;TZID=Europe/Berlin:20260506T160000
DTEND;TZID=Europe/Berlin:20260506T193000
DTSTAMP:20260223T104730Z
URL:https://veranstaltungen.muenchen.de/soz/veranstaltungen/aktionsnachmit
 tag-kindertagespflege/
SUMMARY:Aktionsnachmittag Kindertagespflege
DESCRIPTION:Liebe Kindertagespflegepersonen\,\n\n&nbsp\;\n\nwir laden Sie h
 erzlich zum Aktionsnachmittag der Kindertagespflege ein.\n\nDieser findet\
 n\nam Mittwoch\, den 06.05.2026\n\nvon 16:00 – 19:30 Uhr\n\nim Eine-Welt
 -Haus (Schwanthaler Str. 80\, München) statt.\n\n&nbsp\;\n\nNeben dem Aus
 tausch und der Begegnung miteinander wird es einen spannenden Fachvortrag 
 zum Thema „Naturpädagogik“ und die Präsentation von Projekten aus Ih
 rer Praxis geben.\n\nZum Thema „Naturerleben in der Kindertagespflege“
  lernen Sie anhand anschaulicher Praxisbeispiele\, wie Sie mit Kindern spi
 elerisch die Natur entdecken können. Sie erfahren\, wie sich verschiedene
  Naturräume als lebendige Lern- und Erfahrungsräume nutzen lassen\, um d
 ie kindliche Entwicklung ganzheitlich zu fördern. Die Referentin stellt I
 hnen Methoden zum Draußen sein\, Forschen und Staunen vor\, die sich dire
 kt in der Arbeit mit unterschiedlichen Altersgruppen umsetzen lassen. Zus
 ätzlich ist Raum für den Austausch von Erfahrungen und bewährten Ideen\
 , um Ihre pädagogische Arbeit nachhaltig zu bereichern\n\nDanach ist noch
  ausreichend Zeit für ein geselliges Zusammensein bei kleinen Snacks und 
 Getränken.\n\n&nbsp\;\n\nIhre Anmeldung ist bis zum 27.03.2026 möglich.\
 n\nDa die Teilnehmerzahl begrenzt ist\, empfehlen wir eine zeitnahe Anmeld
 ung.\n\n&nbsp\;\n\nFür Ihre Teilnahme erhalten Sie nach der Veranstaltung
  per Mail eine Teilnahmebescheinigung über 2 Unterrichtseinheiten\, die S
 ie für die Anerkennung als Fortbildung bei Ihrer zuständigen sozialpäda
 gogischen Fachkraft einreichen können.\n\n&nbsp\;\n\nWir freuen uns auf z
 ahlreiche Anmeldungen und auf ein Treffen beim Aktionsnachmittag.\n\nIhr S
 achgebiet Kindertagesbetreuung\n\n&nbsp\;
CATEGORIES:Aktionsnachmittag Kindertagespflege
LOCATION:Eine Welt Haus\, Schwanthalerstr. 80\, München\, Bayern\, 80336\,
  Deutschland
GEO:48.1379275;11.552935046007097
X-APPLE-STRUCTURED-LOCATION;VALUE=URI;X-ADDRESS=Schwanthalerstr. 80\, Münc
 hen\, Bayern\, 80336\, Deutschland;X-APPLE-RADIUS=100;X-TITLE=Eine Welt Ha
 us:geo:48.1379275,11.552935046007097
END:VEVENT
BEGIN:VTIMEZONE
TZID:Europe/Berlin
X-LIC-LOCATION:Europe/Berlin
BEGIN:DAYLIGHT
DTSTART:20260329T030000
TZOFFSETFROM:+0100
TZOFFSETTO:+0200
TZNAME:CEST
END:DAYLIGHT
END:VTIMEZONE
END:VCALENDAR