
BEGIN:VCALENDAR
VERSION:2.0
PRODID:-//wp-events-plugin.com//6.6.3//EN
TZID:Europe/Berlin
X-WR-TIMEZONE:Europe/Berlin
BEGIN:VEVENT
UID:0-491@veranstaltungen.muenchen.de
DTSTART;TZID=Europe/Berlin:20251024T160000
DTEND;TZID=Europe/Berlin:20251024T180000
DTSTAMP:20251020T081906Z
URL:https://veranstaltungen.muenchen.de/rku/veranstaltungen/stadtteilspazi
 ergang/
SUMMARY:Stadtteilspaziergang durch das Klimaquartier Olympiapark Ost – en
 tdecken Sie Ihr Quartier neu!
DESCRIPTION:Das Quartier soll fit werden für die Herausforderungen des Kli
 mawandels. Energetische Gebäudesanierung\, klimaneutrale Wärmeversorgung
 \, mehr Grün für ein gesundes Stadtklima\, klimafreundliche Mobilität u
 nd ein lebenswertes Wohnumfeld stehen dabei im Fokus.\n&nbsp\;\nMachen Sie
  sich gemeinsam mit Mitarbeitenden des Referats für Klima- und Umweltschu
 tz auf den Weg durch Ihr Quartier und erhalten Sie an insgesamt vier Stati
 onen spannende Erkenntnisse zum Ist-Zustand Ihres Quartiers.\nExpert*innen
  aus verschiedenen Bereichen geben vor Ort Einblicke in die ersten Ergebni
 sse der Analyse – verständlich\, lebendig und mitten im Geschehen.\n&nb
 sp\;\nAuch Ihr Wissen ist gefragt – nutzen Sie den Austausch und gestalt
 en Sie Ihr Quartier aktiv mit!\n&nbsp\;\nDie Teilnahme ist kostenlos. Zur 
 besseren Planung wird um eine Anmeldung zur Veranstaltung gebeten. Der Run
 dgang startet pünktlich um 16 Uhr an Station 1 am Petuelring.\n&nbsp\;\nS
 ie haben an dem Tag keine Zeit? Im Zeitraum vom 24. Oktober bis zum 3. Nov
 ember können Sie die Stationen auch jederzeit ohne Führung besichtigen.\
 n&nbsp\;\nWeitere Informationen erhalten Sie unter auf unserer Website.
CATEGORIES:RKU-RL
LOCATION:Petuelring\, Petuelring\, München\, Bayern\, 80809\, Deutschland
GEO:48.175668;11.565901
X-APPLE-STRUCTURED-LOCATION;VALUE=URI;X-ADDRESS=Petuelring\, München\, Bay
 ern\, 80809\, Deutschland;X-APPLE-RADIUS=100;X-TITLE=Petuelring:geo:48.175
 668,11.565901
END:VEVENT
BEGIN:VTIMEZONE
TZID:Europe/Berlin
X-LIC-LOCATION:Europe/Berlin
BEGIN:DAYLIGHT
DTSTART:20250330T030000
TZOFFSETFROM:+0100
TZOFFSETTO:+0200
TZNAME:CEST
END:DAYLIGHT
END:VTIMEZONE
END:VCALENDAR