
BEGIN:VCALENDAR
VERSION:2.0
PRODID:-//wp-events-plugin.com//6.6.3//EN
TZID:Europe/Berlin
X-WR-TIMEZONE:Europe/Berlin
BEGIN:VEVENT
UID:0-438@veranstaltungen.muenchen.de
DTSTART;TZID=Europe/Berlin:20250328T150000
DTEND;TZID=Europe/Berlin:20250328T170000
DTSTAMP:20250328T081604Z
URL:https://veranstaltungen.muenchen.de/rku/veranstaltungen/spaziergang-mo
 osschwaige/
SUMMARY:Spaziergang mit Diskussion in der Moosschwaige
DESCRIPTION:Die Landeshauptstadt München lässt aktuell für die Moosschwa
 ige ein Wegekonzept entwickeln. Ziel ist es\, den Lebensraum der mehr als 
 30 seltenen Tierarten und 70 seltenen Pflanzenarten zu schützen. Gleichze
 itig sollen Besucher*innen die Moosschwaige auch weiterhin zur Erholung un
 d Freizeitgestaltung nutzen können.\n\n&nbsp\;\n\nGerne können Sie uns i
 m Rahmen des gemeinsamen Spaziergangs mitteilen:\n\n 	Wo es Ihnen in diese
 m Gebiet besonders gut gefällt\n 	Was Sie derzeit in diesem Gebiet stört
 \n 	Wo Sie vielleicht eine Idee haben\n\n\n\nUnser circa zweistündiger Sp
 aziergang beginnt am Treffpunkt am südlichen Ende der Eschenallee (siehe 
 Karte). Dort erhalten Sie einleitende Informationen über das Gebiet\, die
  geschichtliche Entwicklung und Gründe für den Naturschutz. Danach geht 
 es Richtung Norden mit einem ersten Stopp am Nordende des Erlbachweihers.\
 n\nWeiter führt uns unser Weg entlang des Erlbachs und dann in einem Rund
 weg zunächst Richtung Westen und anschließend Richtung Süden. Unterbroc
 hen wird der Spaziergang von Stopps an neuralgischen Punkten der Moosschwa
 ige\, die zur Diskussion einladen\, bis wir schließlich gegen 17 Uhr wied
 er am Treffpunkt ankommen werden.\n\n&nbsp\;\n\nEine Anmeldung ist bis 27.
  März möglich.\n\n&nbsp\;\n\n&nbsp\;\n\nBei Sturm\, starkem Regen oder S
 chneefall findet der Spaziergang nicht statt. Sie werden per Mail über ei
 ne mögliche Absage informiert. Ersatztermin ist der 4. April 2025\, 15 bi
 s 17 Uhr.
CATEGORIES:RKU-RL
END:VEVENT
BEGIN:VTIMEZONE
TZID:Europe/Berlin
X-LIC-LOCATION:Europe/Berlin
BEGIN:STANDARD
DTSTART:20241027T020000
TZOFFSETFROM:+0200
TZOFFSETTO:+0100
TZNAME:CET
END:STANDARD
END:VTIMEZONE
END:VCALENDAR