
BEGIN:VCALENDAR
VERSION:2.0
PRODID:-//wp-events-plugin.com//6.6.3//EN
TZID:Europe/Berlin
X-WR-TIMEZONE:Europe/Berlin
BEGIN:VEVENT
UID:0-485@veranstaltungen.muenchen.de
DTSTART;TZID=Europe/Berlin:20251117T100000
DTEND;TZID=Europe/Berlin:20251117T130000
DTSTAMP:20251105T073344Z
URL:https://veranstaltungen.muenchen.de/rku/veranstaltungen/bne-zweites-tr
 effen/
SUMMARY:Zweites Vernetzungstreffen „Bildung für nachhaltige Entwicklung 
 in der non-formalen Erwachsenenbildung“
DESCRIPTION:Beim ersten Treffen haben über 30 Vertreter*innen von Organisa
 tionen\, Vereinen und Einrichtungen erste Ideen und gemeinsame Ziele für 
 eine wirkungsvolle BNE in München ausgetauscht.\n\n&nbsp\;\n\nZiel des zw
 eiten Treffens ist es\, basierend auf diesen Ergebnissen\, gemeinsam die G
 rundlagen für ein tragfähiges Netzwerk legen.\n\n&nbsp\;\n\nThemen werde
 n unter anderem sein\, geeignete Strukturen und Kommunikationswege zu disk
 utieren\, Bedarfe und Möglichkeiten für einen fachlichen Austausch auszu
 losten und erste konkrete Verabredungen für die Zusammenarbeit zu treffen
 .
CATEGORIES:RKU-RL
LOCATION:Eingang Ökologisches Bildungszentrum München (ÖBZ)\, Englschalk
 inger Straße 166\, München\, Deutschland
GEO:48.1526401;11.634688099999948
X-APPLE-STRUCTURED-LOCATION;VALUE=URI;X-ADDRESS=Englschalkinger Straße 166
 \, München\, Deutschland;X-APPLE-RADIUS=100;X-TITLE=Eingang Ökologisches
  Bildungszentrum München (ÖBZ):geo:48.1526401,11.634688099999948
END:VEVENT
BEGIN:VTIMEZONE
TZID:Europe/Berlin
X-LIC-LOCATION:Europe/Berlin
BEGIN:STANDARD
DTSTART:20251026T020000
TZOFFSETFROM:+0200
TZOFFSETTO:+0100
TZNAME:CET
END:STANDARD
END:VTIMEZONE
END:VCALENDAR