
BEGIN:VCALENDAR
VERSION:2.0
PRODID:-//wp-events-plugin.com//6.6.3//EN
TZID:Europe/Berlin
X-WR-TIMEZONE:Europe/Berlin
BEGIN:VEVENT
UID:10-29@veranstaltungen.muenchen.de
DTSTART;TZID=Europe/Berlin:20191128T083000
DTEND;TZID=Europe/Berlin:20191128T170000
DTSTAMP:20190806T091435Z
URL:https://veranstaltungen.muenchen.de/rit/veranstaltungen/open-governmen
 t-tag-2019/
SUMMARY:Open Government Tag 2019
DESCRIPTION:In seiner 7. Auflage hat sich der Open Government Tag zu einer 
 festen Größe in der Veranstaltungslandschaft des öffentlichen Dienstes 
 etabliert.\n\nMehr als 200 Vertreterinnen und Vertreter aus Behörden\, Wi
 rtschaft\, Wissenschaft und Forschung sowie der Politik\, sprechen hier ge
 meinsam mit Münchner Bürgerinnen und Bürgern über Ideen und Strategien
  einer offenen\, digitalen und innovativen Verwaltung.\n\nAm Donnerstag\, 
 den 28. November 2019 ab 8.30 Uhr wollen wir mit Ihnen gemeinsam im Alten 
 Rathaus in München diskutieren unter dem Motto:\n\n&nbsp\;\n„Mensch sta
 tt Technik – Wenn Digitalisierung wirkt.“\n&nbsp\;\n\nIn diesem Jahr g
 eht es besonders um das Zusammenspiel von Gesellschaft und Digitalisierung
 \, um die Veränderung unserer Kommunikation und auch gezielt um die Gesta
 ltung unserer Zukunft. Denn bei all den Möglichkeiten\, die uns die digit
 ale Transformation durch neue Medien\, Tools und Technik bietet\, dürfen 
 wir den Menschen nicht aus dem Fokus verlieren.\n\nDigitalisierung muss ni
 cht nur funktionieren\, sie muss wirken!\n\nGemeinsam mit Ihnen wollen wir
  darüber sprechen\, wie die Digitalisierung wirkt und wirken soll\, welch
 e Innovationen\, Medien und Wege wir als Verwaltung in Zukunft verfolgen m
 üssen.\n\nFür diese und weitere Themen bieten wir mit dem Open Governmen
 t Tag 2019 der Landeshauptstadt München einen Raum für Diskussion und Au
 stausch von Erfahrungen. Ob im Bereich digitale Kommunikation\, Social Med
 ia\, Betriebliches Gesundheitsmanagement und digitales Burnout\, Innovatio
 nsmanagement oder Digitalisierungsstrategie – An diesem Tag stellen wir 
 den Menschen ins Zentrum des Wandels.\n\nGet-Together\nDer offizielle Teil
  der Veranstaltung endet um 17 Uhr. Gerne laden wir Sie im Anschluss zu ei
 nem kleinen Get-Together bis circa 19 Uhr ein. Dort können Sie bei dem ei
 n oder anderen Getränk den Tag mit anderen Teilnehmerinnen und Teilnehmer
 n Revue passieren lassen und haben Zeit sich auszutauschen und zu vernetze
 n.\n\n&nbsp\;\nWebApp\nNach dem positiven Feedback im letzten Jahr\, gibt 
 es auch 2019 wieder eine WebApp zum Event. Dazu ist kein Download oder ein
 e persönliche Anmeldung nötig. Gerne können Sie sich die App allerdings
  als Icon auf dem Startbildschirm ihres Smartphones platzieren\, so haben 
 Sie die wichtigsten Informationen zum OGTM19 immer dabei.\nHier geht’s z
 u OGTM-WebApp \nVor und während der Veranstaltung werden wir Ihnen in die
 ser Anwendung auch Neuigkeiten über das Event zur Verfügung stellen. Im 
 Nachgang bitten wir Sie außerdem\, über diese WebApp\, an einer anonymen
  Zufriedenheitsbefragung teilzunehmen. So ermöglichen Sie es uns\, den Op
 en Government Tag im nächsten Jahr noch besser zu gestalten.\n\nDie Daten
 schutzhinweise zur Nutzung der WebApp finden Sie hier: https://lineupr.com
 /de/privacy-policy\n\n&nbsp\;\nFoto- und Videoaufnahmen\nBitte beachten Si
 e\, dass von dieser Veranstaltung Foto- und Videoaufnahmen gemacht werden\
 , die im Internet (Twitter\, IT-Blog\, Youtube\, Internetseite) veröffent
 licht werden. Sollten Sie nicht damit einverstanden sein\, gefilmt oder fo
 tografiert zu werden\, wenden Sie sich bitte an das Organisationsteam. Nat
 ürlich entfernen wir auf Wunsch Bildmaterial\, auf dem Sie zu erkennen si
 nd.\n\nUnser Video vom Open Government Tag 2018\n\nTeilnahme\nDie Teilnahm
 e am Open Government Tag 2019 ist für Sie kostenfrei.\n\nDie Anmeldung is
 t eine zwingende Voraussetzung für die Teilnahme an der Veranstaltung. Bi
 tte beachten Sie\, dass die Teilnehmerzahl begrenzt ist und reservieren Si
 e sich daher rechtzeitig Ihr Ticket.\n\nDa bis November noch einige Zeit v
 ergeht\, empfehlen wir den Termin direkt in den Kalender einzutragen. Weit
 er unten auf der Seite finden Sie dazu den Bereich „Termin speichern“.
  Natürlich senden wir Ihnen kurz vorher nochmal einen kleinen Reminder\, 
 allerdings können Sie so auf Nummer sicher gehen\, dass Ihnen kein andere
 r Termin gesetzt wird.\n\nWenn Ihnen terminlich doch etwas dazwischen komm
 t\, freuen wir uns sehr über eine Abmeldung per E-Mail an opengovernmentt
 age@muenchen.de Wie in den letzten Jahren können so Interessierte der War
 teliste für Sie nachrücken.\n\n&nbsp\;\nDie Veranstaltung ist bereits au
 sgebucht. 
ATTACH;FMTTYPE=image/jpeg:https://veranstaltungen.muenchen.de/rit/wp-conte
 nt/uploads/sites/10/OGTM-Banner_web.jpg
LOCATION:Altes Rathaus München\, Marienplatz 15\, München\, 80331\, Deuts
 chland
GEO:48.1367765;11.576987499999973
X-APPLE-STRUCTURED-LOCATION;VALUE=URI;X-ADDRESS=Marienplatz 15\, München\,
  80331\, Deutschland;X-APPLE-RADIUS=100;X-TITLE=Altes Rathaus München:geo
 :48.1367765,11.576987499999973
END:VEVENT
BEGIN:VTIMEZONE
TZID:Europe/Berlin
X-LIC-LOCATION:Europe/Berlin
BEGIN:STANDARD
DTSTART:20191027T020000
TZOFFSETFROM:+0200
TZOFFSETTO:+0100
TZNAME:CET
END:STANDARD
END:VTIMEZONE
END:VCALENDAR