
BEGIN:VCALENDAR
VERSION:2.0
PRODID:-//wp-events-plugin.com//6.6.3//EN
TZID:Europe/Berlin
X-WR-TIMEZONE:Europe/Berlin
BEGIN:VEVENT
UID:0-23@veranstaltungen.muenchen.de
DTSTART;TZID=Europe/Berlin:20190509T170000
DTEND;TZID=Europe/Berlin:20190509T210000
DTSTAMP:20200214T143317Z
URL:https://veranstaltungen.muenchen.de/rit/veranstaltungen/mobilitaets-we
 rkstatt-offen/
SUMMARY:Mobilitäts-Werkstatt (öffentlich)
DESCRIPTION:Wie können wir uns in Zukunft umweltverträglich und entspannt
  fortbewegen? Was macht unser München von morgen lebenswert?\nDiese Zukun
 ftsfragen möchten wir mit Ihnen in einer „Mobilitäts-Werkstatt“ disk
 utieren\, zu der Sie ganz herzlich eingeladen sind.\n„Mobilitäts-Werkst
 att“ am Donnerstag\, 9. Mai 2019\, von 17 bis 21 Uhr im großen Saal des
  Akademischen Gesangvereins München\, Ledererstraße 5\nBei dieser Verans
 taltung möchten wir gemeinsam mit Ihnen Zukunftsvorstellungen für eine i
 nnovative Verkehrsplanung in München entwickeln.\nDie Ergebnisse der Vera
 nstaltung werden genutzt\, um den Mobilitätsplan für München\, eine Wei
 terentwicklung des Verkehrsentwicklungsplans\, zu gestalten.\nMehr erfahre
 n Sie auch unter muenchen.de/mobilitaet
LOCATION:Akademischer Gesangsverein\, Ledererstraße 5\, München\, 80331\,
  Deutschland
GEO:48.1374287;11.5785234
X-APPLE-STRUCTURED-LOCATION;VALUE=URI;X-ADDRESS=Ledererstraße 5\, München
 \, 80331\, Deutschland;X-APPLE-RADIUS=100;X-TITLE=Akademischer Gesangsvere
 in:geo:48.1374287,11.5785234
END:VEVENT
BEGIN:VTIMEZONE
TZID:Europe/Berlin
X-LIC-LOCATION:Europe/Berlin
BEGIN:DAYLIGHT
DTSTART:20190331T030000
TZOFFSETFROM:+0100
TZOFFSETTO:+0200
TZNAME:CEST
END:DAYLIGHT
END:VTIMEZONE
END:VCALENDAR