
BEGIN:VCALENDAR
VERSION:2.0
PRODID:-//wp-events-plugin.com//6.6.3//EN
TZID:Europe/Berlin
X-WR-TIMEZONE:Europe/Berlin
BEGIN:VEVENT
UID:0-45@veranstaltungen.muenchen.de
DTSTART;TZID=Europe/Berlin:20200201T100000
DTEND;TZID=Europe/Berlin:20200201T123000
DTSTAMP:20200214T143439Z
URL:https://veranstaltungen.muenchen.de/rit/veranstaltungen/mitmuenchnern-
 neue-konzepte-der-prinz-eugen-park/
SUMMARY:#mitmünchnern - Neue Konzepte: Der Prinz-Eugen-Park
DESCRIPTION:Auf dem Gelände der ehemaligen Prinz-Eugen-Kaserne in Bogenhau
 sen entsteht ein attraktives Quartier mit 1.800 Wohnungen. Vernetzte Nachb
 arschaften\, individuelle Wohnformen\,\ngastronomische Angebote und ein in
 novatives Mobilitätskonzept sind für den Prinz-Eugen-Park ebenso charakt
 eristisch wie die Parklandschaft\, durch die sich ein Netz aus Fuß- und R
 adwegen spannt. Für die Bedürfnisse der Anwohnerinnen und Anwohner wurde
  eigens eine Quartiersgenossenschaft gegründet. Wir besichtigen auch die 
 größte zusammenhängende Holzbausiedlung Deutschlands\, die hier mit kna
 pp 600 Wohnungen entsteht.\n\nAnmeldung: Eine Anmeldung ist ab dem 18. Jan
 uar 2020 möglich.\nBei erfolgreicher Anmeldung erhalten Sie den Treffpunk
 t des Stadtspaziergangs per E-Mail.\nDatenschutz: Bitte beachten Sie unser
 e Hinweise zum Datenschutz (PDF\, 51 KB).\nFoto- und Filmaufnahmen: Bei ei
 nigen Touren sind ein Kameramann und Fotograf anwesend. Die Film- und Foto
 aufnahmen verwendet das Referat für Stadtplanung und Bauordnung mögliche
 rweise nicht gewerblich für die Öffentlichkeitsarbeit im Internet\, in A
 usstellungen oder Printprodukten. Ein Vergütungsanspruch besteht nicht. W
 enn Sie dies nicht möchten\, geben Sie uns bitte einen Hinweis.\nInformat
 ionen zur unserer Reihe "PlanTreff vor Ort" finden Sie hier.\n\n&nbsp\;
END:VEVENT
BEGIN:VTIMEZONE
TZID:Europe/Berlin
X-LIC-LOCATION:Europe/Berlin
BEGIN:STANDARD
DTSTART:20191027T020000
TZOFFSETFROM:+0200
TZOFFSETTO:+0100
TZNAME:CET
END:STANDARD
END:VTIMEZONE
END:VCALENDAR