
BEGIN:VCALENDAR
VERSION:2.0
PRODID:-//wp-events-plugin.com//6.6.3//EN
TZID:Europe/Berlin
X-WR-TIMEZONE:Europe/Berlin
BEGIN:VEVENT
UID:0-541@veranstaltungen.muenchen.de
DTSTART;TZID=Europe/Berlin:20231016T140000
DTEND;TZID=Europe/Berlin:20231016T155000
DTSTAMP:20230922T170425Z
URL:https://veranstaltungen.muenchen.de/rbs/veranstaltungen/zeitgenoessisc
 her-tanz-mit-chr-mohl/
SUMMARY:Zeitgenössischer Tanz mit Chr. Mohl
DESCRIPTION:Atmen. Meinem Körper lauschen. Mich spüren. Bewege ich mich? 
 Oder bewegt es mich?\nWir beginnen auf dem Boden liegend mit Übungen zur 
 Mobilisation und zur Erweckung unseres Körperbewusstseins. Mit einer sanf
 ten Körperimprovisation entdecken wir den Raum in uns und\num uns herum. 
 Ein tanztechnisches Warm-Up nach zeitgenössischen Gesichtspunkten mit dyn
 amischen fließenden Bewegungen bereitet uns auf die darauffolgende Choreo
 graphie vor.\nEntspannungs- und Dehnübungen zum Schluss helfen uns abschl
 ießend den Körper zu lockern und das neu Erlernte zu verarbeiten.\n\nZur
  Kleidung:\n\nwir tanzen barfuß\, oder in Socken\nbequeme\, locker Kleidu
 ng zum Bewegen und Schwitzen (evtl. Handtuch)\nbei T-Shirt\, oder Top bitt
 e auch dünnes langärmliges Shirt mitbringen\, da wir einige Zeit auf\nde
 m Boden verbringen werden\nSchmuck davor ablegen\nevtl. Haare zusammenbind
 en\n\nFür alle Kurse gilt: bitte erscheinen Sie in bequemer Kleidung und 
 bringen Sie ggf. ein Handtuch und nur bruchsichere Getränkeflaschen mit. 
 Beachten Sie bitte\, dass es keine Möglichkeit vor Ort gibt\, nach dem Ku
 rsangebot zu duschen.\n\nHinweis: Sollte ein Kurs abgesagt werden müssen\
 , erfolgt dies über die von Ihnen hinterlegte Email Adresse.
LOCATION:Kita Distelhofweg 9\, Distelhofweg 9\,  München\, 81369\, Deutsch
 land
X-APPLE-STRUCTURED-LOCATION;VALUE=URI;X-ADDRESS=Distelhofweg 9\,  München\
 , 81369\, Deutschland;X-APPLE-RADIUS=100;X-TITLE=Kita Distelhofweg 9:geo:0
 ,0
END:VEVENT
BEGIN:VTIMEZONE
TZID:Europe/Berlin
X-LIC-LOCATION:Europe/Berlin
BEGIN:DAYLIGHT
DTSTART:20230326T030000
TZOFFSETFROM:+0100
TZOFFSETTO:+0200
TZNAME:CEST
END:DAYLIGHT
END:VTIMEZONE
END:VCALENDAR