
BEGIN:VCALENDAR
VERSION:2.0
PRODID:-//wp-events-plugin.com//6.6.3//EN
TZID:Europe/Berlin
X-WR-TIMEZONE:Europe/Berlin
BEGIN:VEVENT
UID:0-1166@veranstaltungen.muenchen.de
DTSTART;TZID=Europe/Berlin:20250805T100000
DTEND;TZID=Europe/Berlin:20250808T140000
DTSTAMP:20250717T102213Z
URL:https://veranstaltungen.muenchen.de/rbs/veranstaltungen/skate-abenteue
 r-mitten-in-muenchen-1-woche/
SUMMARY:Skate-Abenteuer mitten in München 1. Woche
DESCRIPTION:Der Ferienkurs in der Skatehalle „SpaceForSkate“\n\nBereit 
 für vier Tage voller Action\, Spaß und neuen Tricks? In unserem Skateboa
 rd-Ferienkurs  erwartet dich ein echtes Highlight der Sommerferien – mi
 tten im Herzen von München! Egal ob du zum ersten Mal auf dem Board stehs
 t oder schon coole Tricks kannst: In der einzigen Skatehalle im Stadtzentr
 um Münchens findest du perfekte Bedingungen zum Lernen\, Üben und Austob
 en.\nUnsere professionellen Skate-Trainer*innen holen dich genau da ab\, w
 o du stehst – mit individueller Betreuung\, viel Erfahrung und jeder Men
 ge Motivation. Ob Anschieben\, Bremsen und Kurvenfahren oder schon fortges
 chrittene Moves wie Ollie\, Shuvit oder Drop In – hier lernst du alles\,
  was zum Skaten dazugehört. Die Skatehalle bietet dir professionell gebau
 te Rampen und Obstacles\, die ideal zum Üben ausgelegt sind – ganz ohne
  schlechtes Wetter!\n\nKurse in den Ferienwochen 1 bis 5 jeweils von Diens
 tag bis Freitag 10 bis 14 Uhr\n\n&nbsp\;\n\nAlter:\n6 bis 16 Jahre\n\n&nbs
 p\;\n\nAusrüstung:\nSportschuhe\, ausreichend zu Trinken und eine Brotzei
 t\, eigene Boards werden vor dem Kurs begutachtet.\nHochwertige Skateboard
 s und Schutzausrüstung stellen wir unseren Teilnehmer*innen kostenfrei zu
 r Verfügung.\nSportschuhe\, Wasser und Brotzeit sollten von den Teilnehme
 r*innen mitgebracht werden.\nLeckere Saftschorlen und Spezi gibt es auch b
 ei uns in der Skatehalle.\n\n&nbsp\;\n\nWichtige Informationen:\nBitte Mit
 tagessen und Brotzeit für zwischendurch mitnehmen.\n\n&nbsp\;\n\nAnmeldun
 g:\nhttps://skateschulemuenchen.de/skatenlernen\n\n&nbsp\;\n\nPreis: 259 
 €\n\n&nbsp\;\n\nOrt:\nSpace for Skate\, Dachauer Str. 110c\nBus 53 / Tra
 m 20\,21 Haltestelle Leonrodplatz\n\n&nbsp\;\n\nBitte beachten Sie: Der je
 weilige Veranstalter ist allein für Inhalt und Durchführung der Feriensp
 ortkurse verantwortlich.
CATEGORIES:Feriensport des FreizeitSports
LOCATION:Skatehalle SpaceForSkate\, Dachauer Str. 110c\, München\, 80636\,
  Deutschland
GEO:48.158457;11.550486
X-APPLE-STRUCTURED-LOCATION;VALUE=URI;X-ADDRESS=Dachauer Str. 110c\, Münch
 en\, 80636\, Deutschland;X-APPLE-RADIUS=100;X-TITLE=Skatehalle SpaceForSka
 te:geo:48.158457,11.550486
END:VEVENT
BEGIN:VTIMEZONE
TZID:Europe/Berlin
X-LIC-LOCATION:Europe/Berlin
BEGIN:DAYLIGHT
DTSTART:20250330T030000
TZOFFSETFROM:+0100
TZOFFSETTO:+0200
TZNAME:CEST
END:DAYLIGHT
END:VTIMEZONE
END:VCALENDAR