
BEGIN:VCALENDAR
VERSION:2.0
PRODID:-//wp-events-plugin.com//6.6.3//EN
TZID:Europe/Berlin
X-WR-TIMEZONE:Europe/Berlin
BEGIN:VEVENT
UID:0-1158@veranstaltungen.muenchen.de
DTSTART;TZID=Europe/Berlin:20250811T090000
DTEND;TZID=Europe/Berlin:20250815T120000
DTSTAMP:20250718T124450Z
URL:https://veranstaltungen.muenchen.de/rbs/veranstaltungen/rund-ums-pferd
 -voltigieren-kurs-3-5/
SUMMARY:Rund ums Pferd - Voltigieren Kurs 3
DESCRIPTION:In diesem Kurs lernt ihr den Umgang mit Pferd und Pony.\nUnter 
 fachlicher Anleitung wird euch ausführlich gezeigt\, wie man ein Pferd f
 üttert\, putzt\, sattelt und führt. Natürlich dürft ihr auch reiten un
 d voltigieren.\n\n&nbsp\;\n\nAlter: 6 bis 10 Jahre (Ausnahmen in Absprache
  möglich)\n\n&nbsp\;\n\nAusrüstung: Reit- oder Fahrradhelm\, feste Schuh
 e (keine Gummistiefel\, keine Sandalen)\, Brotzeit\n\n&nbsp\;\n\nOrt: Reit
 - und Voltigierverein München-Daglfing e.V.\, Turfstraße 3\, 81929 Münc
 hen\, Reitgelände\n\n&nbsp\;\n\nWichtige Informationen:\nZugang nur über
  Rennbahnstraße neben Hausnummer 11\nDer Kurs findet auch am Feiertag 15.
 8. statt.\n\n&nbsp\;\n\nPreis: 230 €\n\n&nbsp\;\n\nBuchung über: www.rv
 v-daglfing.de\n\n&nbsp\;\n\nFür die Kurse 1 bis 5 ist eine Mittagsbetreuu
 ng von 12 bis 14 Uhr inklusive kinderfreundlichem Mittagessen vor Ort zubu
 chbar\, 120€\n\n&nbsp\;\n\nGenauere Informationen zu den Terminen:\nwww.
 rvv-daglfing.de/ferienkurse\n\n&nbsp\;\n\nBitte beachten Sie: Der jeweilig
 e Veranstalter ist allein für Inhalt und Durchführung der Feriensportkur
 se verantwortlich.
CATEGORIES:Feriensport des FreizeitSports
LOCATION:Reit- und Voltigierverein München-Daglfing e.V.\, Turfstr. 3\, M
 ünchen\, Bayern\, Deutschland
GEO:48.141092;11.658091
X-APPLE-STRUCTURED-LOCATION;VALUE=URI;X-ADDRESS=Turfstr. 3\, München\, Bay
 ern\, Deutschland;X-APPLE-RADIUS=100;X-TITLE=Reit- und Voltigierverein Mü
 nchen-Daglfing e.V.:geo:48.141092,11.658091
END:VEVENT
BEGIN:VTIMEZONE
TZID:Europe/Berlin
X-LIC-LOCATION:Europe/Berlin
BEGIN:DAYLIGHT
DTSTART:20250330T030000
TZOFFSETFROM:+0100
TZOFFSETTO:+0200
TZNAME:CEST
END:DAYLIGHT
END:VTIMEZONE
END:VCALENDAR