
BEGIN:VCALENDAR
VERSION:2.0
PRODID:-//wp-events-plugin.com//6.6.3//EN
TZID:Europe/Berlin
X-WR-TIMEZONE:Europe/Berlin
BEGIN:VEVENT
UID:0-1262@veranstaltungen.muenchen.de
DTSTART;TZID=Europe/Berlin;VALUE=DATE:20260204
DTEND;TZID=Europe/Berlin;VALUE=DATE:20260620
DTSTAMP:20250926T065637Z
URL:https://veranstaltungen.muenchen.de/rbs/veranstaltungen/kompaktseminar
 _2026_st2/
SUMMARY:Kompaktseminar "Inklusiv Denken - Integrativ Handeln" 2026 ST2
DESCRIPTION:Das Kompaktseminar „Inklusiv Denken – Integrativ Handeln“
  ist ein modulares Angebot mit dem Schwerpunkt Inklusion in Kindertagesein
 richtungen.\n\nEs gliedert sich in vier themenbezogene Module mit einem Ge
 samtumfang von 6 Fortbildungstagen\, welche durch unterschiedliche Referen
 t*innen begleitet werden.\n\n&nbsp\;\n\nZielgruppe:\n\nPädagogisches Pers
 onal in Münchener Kindertageseinrichtungen in städtischer Trägerschaft\
 n\n&nbsp\;\n\nTermine:\n\nModul I - Grundlagen einer inklusiven Pädagogik
 \n\nMittwoch\, 04. Februar 2026\; 08:30 - 16:15 Uhr\nDonnerstag\, 05. Febr
 uar 2026\; 08:30 - 13:00 Uhr\n\nModul II - Inklusive Praxis / Methodisches
  inklusives Handeln\n\nMittwoch\, 04. März 2026\; 08:30 - 16:15 Uhr\nDonn
 erstag\, 05. März 2026\; 08:30 - 16:15 Uhr\n\nModul III - Inklusiv Denken
  und Handeln in der Zusammenarbeit mit Familien\n\nMittwoch\, 29. April 20
 26\; 08:30 - 16:15 Uhr\nDonnerstag\, 30. April 2026\; 08:30 - 12:00 Uhr\n\
 nModul IV - Inklusion bewegt\n\nFreitag\, 19. Juni 2026\; 08:30 - 16:15 Uh
 r\n\n&nbsp\;\n\n&nbsp\;\n\nIhre Anmeldung erfolgt für alle Module und Ver
 anstaltungstage und ist personenbezogen. \n\nSie können nur einen Platz f
 ür sich selbst buchen.\n\nIhre Anmeldung ist verbindlich. \n\nFalls Sie n
 icht teilnehmen können\, melden Sie sich frühzeitig telefonisch oder per
  E-Mail wieder ab\, damit Ihr Platz an andere Teilnehmende vergeben werden
  kann.\n\n&nbsp\;\n\nNach Ablauf der Anmeldefrist erhalten Sie eine Anmeld
 ebestätigung mit einer Übersicht über alle Termine.\n\nDie Anmeldebest
 ätigung und alle weiteren Unterlagen werden an ihre E-Mail-Adresse versan
 dt\, unter der Sie sich anmelden.\n\nEine Anmeldung ist bis Freitag\, den 
 31.10.2025 möglich.\n\n&nbsp\;\n\nDas Gebäude und die Veranstaltungsräu
 me sind stufenfrei zugänglich.\n\nIm Gebäude befinden sich rollstuhlgere
 chte Toiletten.\n\nBenötigen Sie weitere Unterstützung\, teilen Sie uns 
 dies im Vorfeld mit per E-Mail unter veranstaltung.fb.kita.rbs@muenchen.de
  oder telefonisch unter 089 / 233 842 54.\n\n 
CATEGORIES:KITA-FB
LOCATION:LHM-RBS-KITA\, Landsberger Straße 30\, München\, Deutschland\, 8
 0339\, Bayern\, Deutschland
GEO:48.139629;11.54403
X-APPLE-STRUCTURED-LOCATION;VALUE=URI;X-ADDRESS=Landsberger Straße 30\, M
 ünchen\, Deutschland\, 80339\, Bayern\, Deutschland;X-APPLE-RADIUS=100;X-
 TITLE=LHM-RBS-KITA:geo:48.139629,11.54403
END:VEVENT
BEGIN:VTIMEZONE
TZID:Europe/Berlin
X-LIC-LOCATION:Europe/Berlin
BEGIN:STANDARD
DTSTART:20251026T020000
TZOFFSETFROM:+0200
TZOFFSETTO:+0100
TZNAME:CET
END:STANDARD
BEGIN:DAYLIGHT
DTSTART:20260329T030000
TZOFFSETFROM:+0100
TZOFFSETTO:+0200
TZNAME:CEST
END:DAYLIGHT
END:VTIMEZONE
END:VCALENDAR