
BEGIN:VCALENDAR
VERSION:2.0
PRODID:-//wp-events-plugin.com//6.6.3//EN
TZID:Europe/Berlin
X-WR-TIMEZONE:Europe/Berlin
BEGIN:VEVENT
UID:0-1258@veranstaltungen.muenchen.de
DTSTART;TZID=Europe/Berlin;VALUE=DATE:20260129
DTEND;TZID=Europe/Berlin;VALUE=DATE:20260424
DTSTAMP:20250926T065551Z
URL:https://veranstaltungen.muenchen.de/rbs/veranstaltungen/kompaktseminar
 _2026_st1/
SUMMARY:Kompaktseminar "Inklusiv Denken - Integrativ Handeln" 2026 ST1
DESCRIPTION:Das Kompaktseminar „Inklusiv Denken – Integrativ Handeln“
  ist ein modulares Angebot mit dem Schwerpunkt Inklusion in Kindertagesein
 richtungen.\n\nEs gliedert sich in vier themenbezogene Module mit einem Ge
 samtumfang von 6 Fortbildungstagen\, welche durch unterschiedliche Referen
 t*innen begleitet werden.\n\n&nbsp\;\n\nZielgruppe:\n\nPädagogisches Pers
 onal in Münchener Kindertageseinrichtungen in städtischer Trägerschaft\
 n\n&nbsp\;\n\nTermine:\n\nModul I - Grundlagen einer inklusiven Pädagogik
 \n\nDonnerstag\, 29. Januar 2026\; 08:30 - 16:15 Uhr\nFreitag\, 30. Januar
  2026\; 08:30 - 13:00 Uhr\n\nModul II - Inklusive Praxis / Methodisches in
 klusives Handeln\n\nMontag\, 23. Februar 2026\; 08:30 - 16:15 Uhr\nDiensta
 g\, 24. Februar 2026\; 08:30 - 16:15 Uhr\n\nModul III - Inklusiv Denken un
 d Handeln in der Zusammenarbeit mit Familien\n\nMittwoch\, 04. März 2026\
 ; 08:30 - 16:15 Uhr\nDonnerstag\, 05. März 2026\; 08:30 - 12:00 Uhr\n\nMo
 dul IV - Inklusion bewegt\n\nDonnerstag\, 23. April 2026\; 08:30 - 16:15 U
 hr\n\n&nbsp\;\n\n&nbsp\;\n\nIhre Anmeldung erfolgt für alle Module und Ve
 ranstaltungstage und ist personenbezogen. \n\nSie können nur einen Platz 
 für sich selbst buchen.\n\nEs ist nicht möglich nur an einzelnen Modulen
  teilzunehmen oder eine Vertretung zu schicken.\n\n\nIhre Anmeldung ist ve
 rbindlich. \n\nFalls Sie nicht teilnehmen können\, melden Sie sich frühz
 eitig telefonisch oder per E-Mail wieder ab\, damit Ihr Platz an andere Te
 ilnehmende vergeben werden kann.\n\n&nbsp\;\n\nNach Ablauf der Anmeldefris
 t erhalten Sie eine Anmeldebestätigung mit einer Übersicht über alle Te
 rmine.\n\nDie Anmeldebestätigung und alle weiteren Unterlagen werden an i
 hre E-Mail-Adresse versandt\, unter der Sie sich anmelden.\n\nEine Anmeldu
 ng ist bis Freitag\, den 31.10.2025 möglich.\n\n&nbsp\;\n\nDas Gebäude u
 nd die Veranstaltungsräume sind stufenfrei zugänglich.\n\nIm Gebäude be
 finden sich rollstuhlgerechte Toiletten.\n\nBenötigen Sie weitere Unterst
 ützung\, teilen Sie uns dies im Vorfeld mit per E-Mail unter veranstaltun
 g.fb.kita.rbs@muenchen.de oder telefonisch unter 089 / 233 842 54.\n\n 
CATEGORIES:KITA-FB
LOCATION:LHM-RBS-KITA\, Landsberger Straße 30\, München\, Deutschland\, 8
 0339\, Bayern\, Deutschland
GEO:48.139629;11.54403
X-APPLE-STRUCTURED-LOCATION;VALUE=URI;X-ADDRESS=Landsberger Straße 30\, M
 ünchen\, Deutschland\, 80339\, Bayern\, Deutschland;X-APPLE-RADIUS=100;X-
 TITLE=LHM-RBS-KITA:geo:48.139629,11.54403
END:VEVENT
BEGIN:VTIMEZONE
TZID:Europe/Berlin
X-LIC-LOCATION:Europe/Berlin
BEGIN:STANDARD
DTSTART:20251026T020000
TZOFFSETFROM:+0200
TZOFFSETTO:+0100
TZNAME:CET
END:STANDARD
BEGIN:DAYLIGHT
DTSTART:20260329T030000
TZOFFSETFROM:+0100
TZOFFSETTO:+0200
TZNAME:CEST
END:DAYLIGHT
END:VTIMEZONE
END:VCALENDAR