
BEGIN:VCALENDAR
VERSION:2.0
PRODID:-//wp-events-plugin.com//6.6.3//EN
TZID:Europe/Berlin
X-WR-TIMEZONE:Europe/Berlin
BEGIN:VEVENT
UID:0-1260@veranstaltungen.muenchen.de
DTSTART;TZID=Europe/Berlin;VALUE=DATE:20260129
DTEND;TZID=Europe/Berlin;VALUE=DATE:20260424
DTSTAMP:20250929T053035Z
URL:https://veranstaltungen.muenchen.de/rbs/veranstaltungen/kompaktseminar
 _2026_ft1/
SUMMARY:Kompaktseminar "Inklusiv Denken - Integrativ Handeln" 2026 FT1
DESCRIPTION:Das Kompaktseminar „Inklusiv Denken – Integrativ Handeln“
  ist ein modulares Angebot mit dem Schwerpunkt Inklusion in Kindertagesein
 richtungen.\n\nEs gliedert sich in vier themenbezogene Module mit einem Ge
 samtumfang von 6 Fortbildungstagen\, welche durch unterschiedliche Referen
 t*innen begleitet werden.\n\n&nbsp\;\n\nZielgruppe:\n\nPädagogisches Pers
 onal in Münchener Kindertageseinrichtungen in freigemeinnütziger Träger
 schaft\n\n&nbsp\;\n\nTermine:\n\nModul I - Grundlagen einer inklusiven Pä
 dagogik\n\nDonnerstag\, 29. Januar 2026\; 08:30 - 16:15 Uhr\nFreitag\, 30.
  Januar 2026\; 08:30 - 13:00 Uhr\n\nModul II - Inklusive Praxis / Methodis
 ches inklusives Handeln\n\nMontag\, 23. Februar 2026\; 08:30 - 16:15 Uhr\n
 Dienstag\, 24. Februar 2026\; 08:30 - 16:15 Uhr\n\nModul III - Inklusiv De
 nken und Handeln in der Zusammenarbeit mit Familien\n\nMittwoch\, 04. Mär
 z 2026\; 08:30 - 16:15 Uhr\nDonnerstag\, 05. März 2026\; 08:30 - 13:00 Uh
 r\n\nModul IV - Inklusion bewegt\n\nDonnerstag\, 23. April 2026\; 08:30 - 
 16:15 Uhr\n\n&nbsp\;\n\n&nbsp\;\n\nIhre Anmeldung erfolgt für alle Module
  und Veranstaltungstage und ist personenbezogen. \n\nSie können nur einen
  Platz für sich selbst buchen.\n\nEs ist nicht möglich nur an einzelnen 
 Modulen teilzunehmen oder eine Vertretung zu schicken.\n\n\nIhre Anmeldung
  ist verbindlich. \n\nFalls Sie nicht teilnehmen können\, melden Sie sich
  frühzeitig telefonisch oder per E-Mail wieder ab\, damit Ihr Platz an an
 dere Teilnehmende vergeben werden kann.\n\n&nbsp\;\n\nNach Ablauf der Anme
 ldefrist erhalten Sie eine Anmeldebestätigung mit einer Übersicht über 
 alle Termine.\n\nDie Anmeldebestätigung und alle weiteren Unterlagen werd
 en an ihre E-Mail-Adresse versandt\, unter der Sie sich anmelden.\n\nEine 
 Anmeldung ist bis Freitag\, den 31.10.2025 möglich.\n\n&nbsp\;\n\nDas Geb
 äude und die Veranstaltungsräume sind stufenfrei zugänglich.\n\nIm Geb
 äude befinden sich rollstuhlgerechte Toiletten.\n\nBenötigen Sie weitere
  Unterstützung\, teilen Sie uns dies im Vorfeld mit per E-Mail unter vera
 nstaltung.fb.kita.rbs@muenchen.de oder telefonisch unter 089 / 233 842 54.
 \n\n 
CATEGORIES:KITA-FB
LOCATION:LHM-RBS-KITA\, Landsberger Straße 30\, München\, Deutschland\, 8
 0339\, Bayern\, Deutschland
GEO:48.139629;11.54403
X-APPLE-STRUCTURED-LOCATION;VALUE=URI;X-ADDRESS=Landsberger Straße 30\, M
 ünchen\, Deutschland\, 80339\, Bayern\, Deutschland;X-APPLE-RADIUS=100;X-
 TITLE=LHM-RBS-KITA:geo:48.139629,11.54403
END:VEVENT
BEGIN:VTIMEZONE
TZID:Europe/Berlin
X-LIC-LOCATION:Europe/Berlin
BEGIN:STANDARD
DTSTART:20251026T020000
TZOFFSETFROM:+0200
TZOFFSETTO:+0100
TZNAME:CET
END:STANDARD
BEGIN:DAYLIGHT
DTSTART:20260329T030000
TZOFFSETFROM:+0100
TZOFFSETTO:+0200
TZNAME:CEST
END:DAYLIGHT
END:VTIMEZONE
END:VCALENDAR