
BEGIN:VCALENDAR
VERSION:2.0
PRODID:-//wp-events-plugin.com//6.6.3//EN
TZID:Europe/Berlin
X-WR-TIMEZONE:Europe/Berlin
BEGIN:VEVENT
UID:0-945@veranstaltungen.muenchen.de
DTSTART;TZID=Europe/Berlin:20240826T084500
DTEND;TZID=Europe/Berlin:20240830T163000
DTSTAMP:20240515T124112Z
URL:https://veranstaltungen.muenchen.de/rbs/veranstaltungen/kibelino-somme
 r-5-woche-2/
SUMMARY:KiBeLino Sommer 5. Woche
DESCRIPTION:Angeleitete Workshops in den Bereichen Sport\, Bewegung\nund Kr
 eativität.\n\nWir von der Ferienbetreuung KiBeLino freuen uns wirklich se
 hr\, euch Jahr für Jahr unbeschwerte\, abwechslungsreiche und allem voran
  spaßige Ferien ermöglichen zu können!\nBei uns erwartet euch eine Viel
 zahl von sportlichen und kreativen Angeboten für Groß und Klein! Von Bas
 ketball\, Fußball und Hockey über Skaten\, Waveboard- und Einradfahren b
 is hin zu Origami\, Batik und Graffiti – bei KiBeLino ist wirklich für 
 jede*n was dabei.\nIn einer festen Gruppe könnt ihr zusammen mit euren Fr
 eund* innen und Altersgenoss*innen eine Vielzahl dieser Workshops ausprobi
 eren und dabei spielerisch Neues lernen.\nDa sich unsere Betreuungszeit vo
 n 7.30 bis 16.30 Uhr erstreckt\, darf dabei natürlich ein ausgewogenes Mi
 ttagessen nicht fehlen. Sporteln und Kreativsein machen schließlich hungr
 ig!\nZusätzlich bieten wir in allen 5-Tage-Wochen durch einen Ausflug mit
  jeder Gruppe noch einmal mehr Abwechslung in eurer bunten Ferienwoche.\n\
 n&nbsp\;\n\nAlter: 6 bis 16 Jahre\n\n&nbsp\;\n\nAusrüstung: Sportsachen\,
  an Ausflugstagen wetterfeste Kleidung\, immer Badekleidung für Wasserspi
 ele\, Brotzeit und genug zu Trinken (nicht in Glasflaschen!)\,  ein Ferie
 npass ist gerne gesehen\, um uns die Fahrt zu den attraktivsten Ausflugszi
 elen Münchens zu erleichtern.\n\n&nbsp\;\n\nOrt: Sportpark Nymphenburg\, 
 Margarethe-Danzi-Straße 21\, München\n\n&nbsp\;\n\nWichtige Informatione
 n:\nAngebot inklusive Mittagessen.\nBewährtes Rotationsprinzip für mögl
 ichst viel Abwechslung und Vielfalt!\nNachmittagsbetreuung bis 18 Uhr (ext
 ra buchbar).\nWeitere Informationen unter:\nwww.kibelino.de oder per mail 
 an kibelino@esv-muenchen.de\n\n&nbsp\;\n\nVerbindliche Anmeldung:\nhttps:/
 /reservierung.kibelino.de/\n\n&nbsp\;\n\nPreis:\n196\,- € regulär\,\n17
 0\,- € mit Geschwisterrabatt ab dem 2. Kind\;\n71\,25 € für geringes/
 mittleres Einkommen*\;\n17.50 € Bürgergeld und vergleichbare (SGBII\, A
 sylbLG)**\n\n* ermöglicht durch eine Förderung der Stadt München\; Eink
 ommensnachweis wird benötigt\n** ermöglicht durch eine Förderung der St
 adt München\; Jobcenterbescheid wird benötigt\n\n&nbsp\;\n\nBitte beacht
 en Sie: Der jeweilige Veranstalter ist allein für Inhalt und Durchführun
 g der Feriensportkurse verantwortlich.
CATEGORIES:Feriensport des FreizeitSports
LOCATION:Sportpark Nymphenburg\, Margarethe-Danzi-Straße 21\, München\, B
 ayern\, Deutschland
GEO:48.146892;11.496631
X-APPLE-STRUCTURED-LOCATION;VALUE=URI;X-ADDRESS=Margarethe-Danzi-Straße 21
 \, München\, Bayern\, Deutschland;X-APPLE-RADIUS=100;X-TITLE=Sportpark Ny
 mphenburg:geo:48.146892,11.496631
END:VEVENT
BEGIN:VTIMEZONE
TZID:Europe/Berlin
X-LIC-LOCATION:Europe/Berlin
BEGIN:DAYLIGHT
DTSTART:20240331T030000
TZOFFSETFROM:+0100
TZOFFSETTO:+0200
TZNAME:CEST
END:DAYLIGHT
END:VTIMEZONE
END:VCALENDAR