
BEGIN:VCALENDAR
VERSION:2.0
PRODID:-//wp-events-plugin.com//6.6.3//EN
TZID:Europe/Berlin
X-WR-TIMEZONE:Europe/Berlin
BEGIN:VEVENT
UID:0-1151@veranstaltungen.muenchen.de
DTSTART;TZID=Europe/Berlin:20250811T084500
DTEND;TZID=Europe/Berlin:20250814T163000
DTSTAMP:20250717T101700Z
URL:https://veranstaltungen.muenchen.de/rbs/veranstaltungen/kibelino-somme
 r-2-woche-4-tage/
SUMMARY:KiBeLino Sommer 2. Woche (4 Tage)
DESCRIPTION:Angeleitete Workshops in den Bereichen Sport\, Bewegung\nund Kr
 eativität.\n\nDetailliertere Darstellung der KiBeLino Sommerferien:\nWir 
 von der Ferienbetreuung KiBeLino freuen uns wirklich sehr\, euch Jahr für
  Jahr unbeschwerte\, abwechslungsreiche und allem voran spaßige Ferien er
 möglichen zu können!\nBei uns erwartet euch eine Vielzahl von sportliche
 n und kreativen Angeboten für Groß und Klein! Von verschiedensten Ballsp
 ortarten\, Kampfsport und Breakdance über Skaten\, Parcours und Akrobatik
  bis hin zu Batik\, Street Art und Graffiti – bei KiBeLino ist wirklich 
 für jede*n was dabei.\nIn einer festen Gruppe könnt ihr zusammen mit eur
 en Freund* innen und Altersgenoss*innen eine Vielzahl dieser Workshops aus
 probieren und dabei spielerisch Neues lernen.\nDa sich unsere Betreuungsze
 it von 7.30 bis 16.30 Uhr erstreckt\, darf dabei natürlich ein ausgewogen
 es Mittagessen nicht fehlen. Sporteln und Kreativsein machen schließlich 
 hungrig!\nZusätzlich bieten wir in allen 5-Tage-Wochen durch einen Ausflu
 g mit jeder Gruppe noch einmal mehr Abwechslung in eurer bunten Ferienwoch
 e. Abgerundet wird das Programm durch einen gemeinsamen Wochenabschluss mi
 t der Familie in einer Bewegten Stunde und kleinem  Rahmenprogramm am End
 e der Betreuungswoche.\n\n&nbsp\;\n\nAlter: 4 bis 14 Jahre\n\n&nbsp\;\n\nA
 usrüstung: Sportsachen\, an Ausflugstagen wetterfeste Kleidung\, immer Ba
 dekleidung für Wasserspiele\, Brotzeit und genug zu Trinken (nicht in Gla
 sflaschen!)\,  ein Ferienpass ist gerne gesehen\, um uns die Fahrt zu den
  attraktivsten Ausflugszielen Münchens zu erleichtern.\n\n&nbsp\;\n\nOrt:
  ESV München e.V.\, Margarethe-Danzi-Straße 21\, München\n\n&nbsp\;\n\n
 Wichtige Informationen:\nAngebot inklusive Mittagessen.\nBewährtes Rotati
 onsprinzip für möglichst viel Abwechslung und Vielfalt!\nBringzeit ab 7.
 30 bis 8.45 Uhr\, Nachmittagsbetreuung bis 18 Uhr (extra buchbar).\n\n&nbs
 p\;\n\nVerbindliche Anmeldung:\nhttps://reservierung.kibelino.de/\n\nAlter
 nativ schreiben Sie uns gerne unter:\nkibelino@esv-muenchen.de oder j.hech
 er@esv-muenchen.de\n\nLinks für weitere Informationen: kibelino.de/\n\n&n
 bsp\;\n\nPreis:\n156\,- € regulär\,\n130\,- € mit Geschwisterrabatt a
 b dem 2. Kind\;\n56\,60 € für geringes/mittleres Einkommen*\;\n14\,- 
 € Bürgergeld und vergleichbare (SGBII\, AsylbLG)**\n\n* ermöglicht dur
 ch eine Förderung der Stadt München\; Einkommensnachweis wird benötigt\
 n** ermöglicht durch eine Förderung der Stadt München\; Jobcenterbesche
 id wird benötigt\n\n&nbsp\;\n\nBitte beachten Sie: Der jeweilige Veransta
 lter ist allein für Inhalt und Durchführung der Feriensportkurse verantw
 ortlich.
CATEGORIES:Feriensport des FreizeitSports
LOCATION:Sportpark Nymphenburg\, Margarethe-Danzi-Straße 21\, München\, B
 ayern\, Deutschland
GEO:48.146892;11.496631
X-APPLE-STRUCTURED-LOCATION;VALUE=URI;X-ADDRESS=Margarethe-Danzi-Straße 21
 \, München\, Bayern\, Deutschland;X-APPLE-RADIUS=100;X-TITLE=Sportpark Ny
 mphenburg:geo:48.146892,11.496631
END:VEVENT
BEGIN:VTIMEZONE
TZID:Europe/Berlin
X-LIC-LOCATION:Europe/Berlin
BEGIN:DAYLIGHT
DTSTART:20250330T030000
TZOFFSETFROM:+0100
TZOFFSETTO:+0200
TZNAME:CEST
END:DAYLIGHT
END:VTIMEZONE
END:VCALENDAR