
BEGIN:VCALENDAR
VERSION:2.0
PRODID:-//wp-events-plugin.com//6.6.3//EN
TZID:Europe/Berlin
X-WR-TIMEZONE:Europe/Berlin
BEGIN:VEVENT
UID:0-1038@veranstaltungen.muenchen.de
DTSTART;TZID=Europe/Berlin:20240729T090000
DTEND;TZID=Europe/Berlin:20240906T161500
DTSTAMP:20240515T120152Z
URL:https://veranstaltungen.muenchen.de/rbs/veranstaltungen/free-arts-of-m
 ovement-minis/
SUMMARY:Free Arts of Movement Minis
DESCRIPTION:Free Arts of Movement Minis\nUnser Kurs für die ganz Kleinen. 
 Mit viel Spiel und Spaß begleiten wir die Minis durch eine aufregend spor
 tliche Woche.\nAls Voraussetzung wird erwartet\, dass ihr Kind alleine auf
 ‘s Klo gehen kann und Lust auf viel Bewegung hat.\n\n&nbsp\;\n\nAlter:\n
 4 bis 6 Jahre\n\n&nbsp\;\n\nAusrüstung:\nSportkleidung und Sportschuhe\, 
 ausreichend zu Trinken und eine Brotzeit\n\n&nbsp\;\n\nWichtige Informatio
 nen:\nIn allen Ferienwochen geplant\;\nMontag bis Freitag ganztags (Bringz
 eit 8.30 bis 9 Uhr\, Abholzeit 16.15 bis 16.30 Uhr)\n\n&nbsp\;\n\nAnmeldun
 g und alle weiteren Informationen:\nhttps://parkourworkshop.com/muenchen-f
 erienkurse\n\nwww.freeartsofmovement.com\, https://www.instagram.com/freea
 rtsofmovement/\n\nPreis:\n299.- €\; Ermäßigungen mit Ferienpass oder f
 ür Geschwister bei der Anmeldung möglich\n\n&nbsp\;\n\nOrt:\nMünchen Os
 t 1: Sporthallen der Ludwig-Thoma-Realschule\, Fehwiesenstraße 118\, Berg
  am Laim (U2/U5 Innsbrucker Ring)\n\n&nbsp\;\n\nBitte beachten Sie:\nDer j
 eweilige Veranstalter ist allein für Inhalt und Durchführung der Feriens
 portkurse verantwortlich.
CATEGORIES:Feriensport des FreizeitSports
END:VEVENT
BEGIN:VTIMEZONE
TZID:Europe/Berlin
X-LIC-LOCATION:Europe/Berlin
BEGIN:DAYLIGHT
DTSTART:20240331T030000
TZOFFSETFROM:+0100
TZOFFSETTO:+0200
TZNAME:CEST
END:DAYLIGHT
END:VTIMEZONE
END:VCALENDAR