
BEGIN:VCALENDAR
VERSION:2.0
PRODID:-//wp-events-plugin.com//6.6.3//EN
TZID:Europe/Berlin
X-WR-TIMEZONE:Europe/Berlin
BEGIN:VEVENT
UID:0-1248@veranstaltungen.muenchen.de
DTSTART;TZID=Europe/Berlin:20251111T091500
DTEND;TZID=Europe/Berlin:20251111T150000
DTSTAMP:20251103T132044Z
URL:https://veranstaltungen.muenchen.de/rbs/veranstaltungen/fachtag-bne-ko
 mmunikation/
SUMMARY:Fachtag "BNE in einer sich verändernden Kommunikationskultur: Hera
 usforderungen meistern\, Chancen ergreifen"
DESCRIPTION:Im November 2022 hat der Münchner Stadtrat die BNE VISION 2030
 \, das Konzept zur strukturellen Verankerung von Bildung für nachhaltige 
 Entwicklung (BNE) beschlossen. Seither wurden vielfältige Maßnahmen aus 
 dem umfangreichen Handlungsprogramm umgesetzt\, viele sind angestoßen\, w
 ährend andere noch auf ihren Start warten. Gerne möchten wir Ihnen den a
 ktuellen Umsetzungsstand vorstellen und wollen mit Ihnen ins Gespräch kom
 men\, reflektieren und Erfahrungen teilen.\n\n&nbsp\;\n\nHierfür laden wi
 r Sie herzlich ein zum diesjährigen Fachtag mit dem Titel "BNE in einer s
 ich verändernden Kommunikationskultur: Herausforderungen meistern\, Chanc
 en ergreifen".\n\n&nbsp\;\n\nThematisch legen wir ein besonderes Augenmerk
  auf die Schnittstelle zwischen BNE und einer sich wandelnden Kommunikatio
 nskultur. Gemeinsam möchten wir u. a. diskutieren: Wie verändert sich Ko
 mmunikation? Wie können wir mit Desinformation umgehen? Wie kommen wir mi
 t Menschen ins Gespräch\, die andere Meinungen und Werte vertreten? Wie g
 elingt es uns\, durch Kommunikation positive Perspektiven für Nachhaltigk
 eitsthemen zu schaffen? Und nicht zuletzt: Was können wir in der BNE-Bild
 ungsarbeit konkret dazu beitragen?\n\n&nbsp\;\n\nDas Programm (inkl. Detai
 ls zu den Workshops) finden Sie in der Einladung\, die hier verlinkt ist.\
 n\n 
LOCATION:Kulturhaus Milbertshofen\, Curt-Mezger-Platz 1\, München\, 80809\
 , Deutschland
GEO:48.181993;11.567194
X-APPLE-STRUCTURED-LOCATION;VALUE=URI;X-ADDRESS=Curt-Mezger-Platz 1\, Münc
 hen\, 80809\, Deutschland;X-APPLE-RADIUS=100;X-TITLE=Kulturhaus Milbertsho
 fen:geo:48.181993,11.567194
END:VEVENT
BEGIN:VTIMEZONE
TZID:Europe/Berlin
X-LIC-LOCATION:Europe/Berlin
BEGIN:STANDARD
DTSTART:20251026T020000
TZOFFSETFROM:+0200
TZOFFSETTO:+0100
TZNAME:CET
END:STANDARD
END:VTIMEZONE
END:VCALENDAR