
BEGIN:VCALENDAR
VERSION:2.0
PRODID:-//wp-events-plugin.com//6.6.3//EN
TZID:Europe/Berlin
X-WR-TIMEZONE:Europe/Berlin
BEGIN:VEVENT
UID:0-1118@veranstaltungen.muenchen.de
DTSTART;TZID=Europe/Berlin:20250527T133000
DTEND;TZID=Europe/Berlin:20250527T153000
DTSTAMP:20250519T152254Z
URL:https://veranstaltungen.muenchen.de/rbs/veranstaltungen/einweihungsfei
 er-campus-karl-marx-ring/
SUMMARY:Einweihung des Campus Karl-Marx-Ring
DESCRIPTION:Diese Veranstaltung richtet sich ausschließlich an einen gelad
 enen Personenkreis.\n&nbsp\;\nDie Landeshauptstadt München lädt Sie herz
 lich zur feierlichen Einweihung des Campus Karl-Marx-Ring ein.\n&nbsp\;\nA
 m Dienstag\, 27. Mai 2025 beginnt der Festakt um 13.30 Uhr in der Aula/Men
 sa der Grundschule.\n&nbsp\;\nEinlass ist ab 12.45 Uhr.\n&nbsp\;\nDas Vera
 nstaltungsende ist gegen 15.30 Uhr\, mit einem\nAusklang bis 16.30 Uhr\, v
 orgesehen.\n&nbsp\;\n\nBitte melden Sie sich hiermit verbindlich für dies
 e\nVeranstaltung an\, indem Sie nachfolgend Ihre Daten eingeben.\nVielen D
 ank.\n\n&nbsp\;\nDie Campusfamilie mit der Grundschule mit Kooperativer Ga
 nztagsbildung\, dem integrativen Haus für Kinder\,\nder Sing- und Musiksc
 hule im Musikschulzentrum Ost und das Referat für Bildung und Sport der L
 andeshauptstadt München\nfreuen sich auf Ihren Besuch.
ATTACH;FMTTYPE=image/jpeg:https://veranstaltungen.muenchen.de/rbs/wp-conte
 nt/uploads/sites/12/Bild-fuer-Online-Einladung-3-2.jpg
LOCATION:Campus Karl-Marx-Ring\, Karl-Marx-Ring 67\, München\, Bayern\, 81
 735\, Deutschland
GEO:48.10553;11.659872
X-APPLE-STRUCTURED-LOCATION;VALUE=URI;X-ADDRESS=Karl-Marx-Ring 67\, Münche
 n\, Bayern\, 81735\, Deutschland;X-APPLE-RADIUS=100;X-TITLE=Campus Karl-Ma
 rx-Ring:geo:48.10553,11.659872
END:VEVENT
BEGIN:VTIMEZONE
TZID:Europe/Berlin
X-LIC-LOCATION:Europe/Berlin
BEGIN:DAYLIGHT
DTSTART:20250330T030000
TZOFFSETFROM:+0100
TZOFFSETTO:+0200
TZNAME:CEST
END:DAYLIGHT
END:VTIMEZONE
END:VCALENDAR