
BEGIN:VCALENDAR
VERSION:2.0
PRODID:-//wp-events-plugin.com//6.6.3//EN
TZID:Europe/Berlin
X-WR-TIMEZONE:Europe/Berlin
BEGIN:VEVENT
UID:0-938@veranstaltungen.muenchen.de
DTSTART;TZID=Europe/Berlin:20240729T090000
DTEND;TZID=Europe/Berlin:20240802T160000
DTSTAMP:20240515T114845Z
URL:https://veranstaltungen.muenchen.de/rbs/veranstaltungen/das-erlebnisca
 mp-des-tsv-neuried-1-3/
SUMMARY:Das Erlebniscamp des TSV Neuried 1
DESCRIPTION:Eine spannende Woche mit Natur\, Sport und Abenteuer.\n\nDas Er
 lebniscamp wird für Kinder im Grundschulalter angeboten.\nEine Woche best
 eht aus Spiel- &amp\; Spaßtagen sowie Erleben- &amp\; Entdecken-Tagen. Di
 e Spiel- und Spaßtage verbringen wir auf dem TSV-Gelände. Die Kinder erw
 artet ein täglich wechselnder Erlebnisparcours\, viele spannende Fang-\, 
 Ring- und Wettkampfspiele\, eine Schnitzeljagd aber auch Mal- und Bastelm
 öglichkeiten. Bei den Erleben- &amp\; Entdecken-Tagen stehen interessante
  und abenteuerliche Ausflüge auf dem Plan. Abhängig von Wetter und Zahl 
 der teilnehmenden Kinder wird entschieden\, welcher spannende Ausflug stat
 tfinden wird.\n\n&nbsp\;\n\nAlter: 6 bis 10 Jahre\n\n&nbsp\;\n\nAusrüstun
 g: Sportkleidung und -schuhe\, zusätzlich Hallensportschuhe\n\n&nbsp\;\n\
 nOrt: TSV Neuried e.V.\, Am Sportpark 8\, Neuried\n\n&nbsp\;\n\nVerbindlic
 he Anmeldung:\nwww.tsv-neuried.de\; Anmeldeschluss: zwei Wochen vor Campbe
 ginn\n\n&nbsp\;\n\nPreis: 185 € inklusive Mittagessen an den Spiel- und 
 Spaßtagen\, ein Geschwisterrabatt kann angefragt werden.\n\n&nbsp\;\n\nBi
 tte beachten Sie: Der jeweilige Veranstalter ist allein für Inhalt und Du
 rchführung der Feriensportkurse verantwortlich.
CATEGORIES:Feriensport des FreizeitSports
END:VEVENT
BEGIN:VTIMEZONE
TZID:Europe/Berlin
X-LIC-LOCATION:Europe/Berlin
BEGIN:DAYLIGHT
DTSTART:20240331T030000
TZOFFSETFROM:+0100
TZOFFSETTO:+0200
TZNAME:CEST
END:DAYLIGHT
END:VTIMEZONE
END:VCALENDAR