
BEGIN:VCALENDAR
VERSION:2.0
PRODID:-//wp-events-plugin.com//6.6.3//EN
TZID:Europe/Berlin
X-WR-TIMEZONE:Europe/Berlin
BEGIN:VEVENT
UID:0-1132@veranstaltungen.muenchen.de
DTSTART;TZID=Europe/Berlin:20250804T090000
DTEND;TZID=Europe/Berlin:20250808T160000
DTSTAMP:20250717T100254Z
URL:https://veranstaltungen.muenchen.de/rbs/veranstaltungen/cheerleading-w
 orkshop-i-8-14-jahre/
SUMMARY:Cheerleading Workshop I 8 - 14 Jahre
DESCRIPTION:Eine sportliche Woche für alle\, die mit vollem Einsatz dabei 
 sind!\nIhr lernt die unterschiedlichen Elemente des Cheerleading kennen od
 er verbessert euch darin: Gemeinsam trainiert ihr die typischen Cheer-Moti
 ons und Body Positions\, verbessert eure Kraft und Koordination und übt S
 tunts (Hebefiguren) sowie Tumbling (Bodenturnen).\nDabei trainiert ihr unt
 er Anleitung unserer erfahrenen Trainerinnen\, die euch jeden Tag ein klei
 n wenig besser werden lassen.\nEs spielt keine Rolle\, ob ihr Einsteiger* 
 innen seid oder Erfahrung im Cheerleading habt: Das Training wird an euer 
 individuelles Können angepasst. Da es sich um einen Sportworkshop handelt
 \, wird jedoch die engagierte Teilnahme an allen Übungen vorausgesetzt.\n
 \n&nbsp\;\n\nAlter:\nab 8 Jahre\n\n&nbsp\;\n\nAusrüstung:\nHallensportsch
 uhe\, Sportkleidung\, Getränke (nicht in Glasflaschen!)\, Brotzeit für d
 ie Frühstückspause\n\n&nbsp\;\n\nAnmeldung: Woche 1 (8 bis 14 Jahre):\n\
 nforms.office.com/e/Fh0ysM7yYs\n\n&nbsp\;\n\nWoche 6 (ab 14 Jahre):\nforms
 .office.com/e/xThSE29xYk\n\n&nbsp\;\n\nPreis:\n95 € (inklusive Mittagess
 en)\n\n&nbsp\;\n\nWichtige Informationen:\nOptional zubuchbar: Frühbetreu
 ung von 8.30 bis 9 Uhr\n\n&nbsp\;\n\nOrt:\nStädtisches Stadion an der Dan
 testraße (Gymnastiksaal\, Sporthalle und Außenbereich)\, Dantestraße 14
 \n\n&nbsp\;\n\nKontakt für Fragen und weitere Informationen:\ncheerleader
 @munich-cowboys.de\n\n&nbsp\;\n\nBitte beachten Sie:\nDer jeweilige Verans
 talter ist allein für Inhalt und Durchführung der Feriensportkurse veran
 twortlich.
CATEGORIES:Feriensport des FreizeitSports
LOCATION:Städtisches Stadion an der Dantestraße\, Dantestraße 14\, Münc
 hen\, Bayern\, 80637\, Deutschland
GEO:48.167765;11.527865
X-APPLE-STRUCTURED-LOCATION;VALUE=URI;X-ADDRESS=Dantestraße 14\, München\
 , Bayern\, 80637\, Deutschland;X-APPLE-RADIUS=100;X-TITLE=Städtisches Sta
 dion an der Dantestraße:geo:48.167765,11.527865
END:VEVENT
BEGIN:VTIMEZONE
TZID:Europe/Berlin
X-LIC-LOCATION:Europe/Berlin
BEGIN:DAYLIGHT
DTSTART:20250330T030000
TZOFFSETFROM:+0100
TZOFFSETTO:+0200
TZNAME:CEST
END:DAYLIGHT
END:VTIMEZONE
END:VCALENDAR