
BEGIN:VCALENDAR
VERSION:2.0
PRODID:-//wp-events-plugin.com//6.6.3//EN
TZID:Europe/Berlin
X-WR-TIMEZONE:Europe/Berlin
BEGIN:VEVENT
UID:0-332@veranstaltungen.muenchen.de
DTSTART;TZID=Europe/Berlin:20230904T090000
DTEND;TZID=Europe/Berlin:20230908T130000
DTSTAMP:20230602T093147Z
URL:https://veranstaltungen.muenchen.de/rbs/veranstaltungen/american-footb
 all/
SUMMARY:American Football
DESCRIPTION:Kurse der Munich Cowboys\nNach dem tollen NFL Saisonspiel 2022 
 bieten die Münchner\nAmerican-Football-Vereine erneut einen einwöchigen 
 Schnupperkurs\nim Flag Football an.\nErfahrene Trainer*innen führen dich 
 schrittweise in das FLAG\nFootball ein\, die kontaktlose Variante des Amer
 ican Football.\nDas Programm fördert die Kreativität und vermittelt glei
 chzeitig\nWerte wie Respekt\, Verantwortung\, Integrität und\nDurchhaltev
 ermögen\, sowie die Wichtigkeit eines gesunden\,\naktiven Lebensstils.\n\
 n&nbsp\;\n\nAlter:\n8 bis 16 Jahre\n\n&nbsp\;\n\nKurse:\n31.7. bis 4.8. un
 d 4.9. bis 8.9.\n(1. und 6. Ferienwoche)\, 9 bis 13 Uhr\n\nAusrüstung:\nS
 portkleidung\, Sportschuhe für draußen\, Brotzeit und Getränke (nicht i
 n Glasflaschen!)\n\n&nbsp\;\n\nAnmeldung:\nhttps://form.campai.com/KkSNQe6
 pdyHi oder\nwww.cowboys-kaderschmiede.de\n\n&nbsp\;\n\nPreis:\n50 € pro 
 Woche (nach der Anmeldung vorab zu überweisen)\n\n&nbsp\;\n\nOrte:\nBezir
 kssportanlage Ramersdorf\; Görzer Str. 55\, 81549 München\, Munich Cowbo
 ys\n\n&nbsp\;\n\nBitte beachten Sie:\nDer jeweilige Veranstalter ist allei
 n für Inhalt und Durchführung der Feriensportkurse verantwortlich.
CATEGORIES:Feriensport des FreizeitSports
LOCATION:Bezirkssportanlage Ramersdorf\, Görzer Straße 55\, München\, Ba
 yern\, 81549\, Deutschland
GEO:48.107694;11.608095
X-APPLE-STRUCTURED-LOCATION;VALUE=URI;X-ADDRESS=Görzer Straße 55\, Münch
 en\, Bayern\, 81549\, Deutschland;X-APPLE-RADIUS=100;X-TITLE=Bezirkssporta
 nlage Ramersdorf:geo:48.107694,11.608095
END:VEVENT
BEGIN:VTIMEZONE
TZID:Europe/Berlin
X-LIC-LOCATION:Europe/Berlin
BEGIN:DAYLIGHT
DTSTART:20230326T030000
TZOFFSETFROM:+0100
TZOFFSETTO:+0200
TZNAME:CEST
END:DAYLIGHT
END:VTIMEZONE
END:VCALENDAR