
BEGIN:VCALENDAR
VERSION:2.0
PRODID:-//wp-events-plugin.com//6.6.3//EN
TZID:Europe/Berlin
X-WR-TIMEZONE:Europe/Berlin
BEGIN:VEVENT
UID:0-156@veranstaltungen.muenchen.de
DTSTART;TZID=Europe/Berlin:20230627T140000
DTEND;TZID=Europe/Berlin:20230627T160000
DTSTAMP:20230614T115119Z
URL:https://veranstaltungen.muenchen.de/raw/veranstaltungen/webseminar-kli
 maneutralitaet-photovoltaik-in-kombination-mit-speichern-oder-waermepumpen
 /
SUMMARY:Webseminar Klimaneutralität - "Photovoltaik in Kombination mit Spe
 ichern oder Wärmepumpen"
DESCRIPTION:\n&nbsp\;\n\nUnsere Vortragsreihe „Das klimaneutrale Unterneh
 men 2023" präsentiert Ihnen wieder kompakt und umsetzbar aktuelle Empfehl
 ungen\, wie Sie Ihr Unternehmen Schritt für Schritt klimafreundlicher auf
 stellen.\n\n&nbsp\;\n\nDie zweite Informationsveranstaltung findet als Web
 seminar statt und behandelt "Photovoltaik in Kombination mit Speichern ode
 r Wärmepumpen".\n\n&nbsp\;\n\nThema sind diesmal erneut Rechtliche Rahmen
 edingungen sowie praktische Beispiele zur Nutzung von Photovoltaik in Verb
 indung mit Speichersystemen oder Wärmepumpen.\n\n&nbsp\;\n\nHier der\n&gt
 \;&gt\; Programmablauf 27.6.\n&nbsp\;\nHinweis: Wir bitten um Anmeldung ü
 ber das Formular unten. Sie erhalten dann rechtzeitig eine Termin-Erinneru
 ng und die Zugangsdaten.\n&nbsp\;\nWeitere Web-Seminare finden Sie auf uns
 erer Themenseite Infoinitiative das klimaneutrale Unternehmen 2023\n\n&nbs
 p\;\nDie Veranstaltung findet statt in Zusammenarbeit mit\n
CATEGORIES:sichtbar auf Startseite
END:VEVENT
BEGIN:VTIMEZONE
TZID:Europe/Berlin
X-LIC-LOCATION:Europe/Berlin
BEGIN:DAYLIGHT
DTSTART:20230326T030000
TZOFFSETFROM:+0100
TZOFFSETTO:+0200
TZNAME:CEST
END:DAYLIGHT
END:VTIMEZONE
END:VCALENDAR