
BEGIN:VCALENDAR
VERSION:2.0
PRODID:-//wp-events-plugin.com//6.6.3//EN
TZID:Europe/Berlin
X-WR-TIMEZONE:Europe/Berlin
BEGIN:VEVENT
UID:0-268@veranstaltungen.muenchen.de
DTSTART;TZID=Europe/Berlin:20241114T140000
DTEND;TZID=Europe/Berlin:20241114T160000
DTSTAMP:20241028T073713Z
URL:https://veranstaltungen.muenchen.de/raw/veranstaltungen/webseminar-gre
 en-building-online/
SUMMARY:Webseminar "Green Building" (online)
DESCRIPTION:\n&nbsp\;\n\nMit unserer Vortragsreihe „Das klimaneutrale Unt
 ernehmen 2024"möchten wir Ihnen wieder Orientierung bieten und Anregungen
  geben\, wie Sie Ihr Unternehmen Schritt für Schritt klimafreundlicher au
 fstellen.\n\n&nbsp\;\n\nIm Webinar zum Thema "Green Building " geht es die
 smal um die Anpassung und Resilienz von Gebäuden.\n\n&nbsp\;\n\nDie Vortr
 äge bieten Ihnen praktische Tipps für eine zukunftsfähige Nutzung\, Ges
 taltung und Modernisierung.\n\n&nbsp\;\n\nErfahren Sie\, wie Sie Ihre Räu
 me durch clevere Lösungen für den Klimawandel rüsten und die Energieeff
 izienz von Bestandsgebäuden verbessern können.\n\n&nbsp\;\n\nOn Top info
 rmieren wir Sie über intelligente Softwarelösungen zur Einsparung von En
 ergie und zur Erstellung einer Klimabilanz.\n\n&nbsp\;\n\n&nbsp\;\n\nDie V
 eranstaltung findet als Webseminar statt.\n\n&nbsp\;\n\nHier finden Sie da
 s Programm vom 14.11.\n\n&nbsp\;\n\n&nbsp\;\nHinweis: Wir bitten um Anmeld
 ung über das Formular unten. Sie erhalten dann rechtzeitig eine Termin-Er
 innerung und die Zugangsdaten.\n&nbsp\;\n\n&nbsp\;\nAlle Themen und Präse
 ntationen der Reihe finden Sie sukzessive auf unserer Themenseite Infoinit
 iative das klimaneutrale Unternehmen 2024\n\n&nbsp\;\nDie Veranstaltung fi
 ndet statt in Zusammenarbeit mit\n
CATEGORIES:sichtbar auf Startseite
END:VEVENT
BEGIN:VTIMEZONE
TZID:Europe/Berlin
X-LIC-LOCATION:Europe/Berlin
BEGIN:STANDARD
DTSTART:20241027T020000
TZOFFSETFROM:+0200
TZOFFSETTO:+0100
TZNAME:CET
END:STANDARD
END:VTIMEZONE
END:VCALENDAR