
BEGIN:VCALENDAR
VERSION:2.0
PRODID:-//wp-events-plugin.com//6.6.3//EN
TZID:Europe/Berlin
X-WR-TIMEZONE:Europe/Berlin
BEGIN:VEVENT
UID:0-88@veranstaltungen.muenchen.de
DTSTART;TZID=Europe/Berlin:20211202T140000
DTEND;TZID=Europe/Berlin:20211202T163000
DTSTAMP:20211119T125601Z
URL:https://veranstaltungen.muenchen.de/raw/veranstaltungen/webseminar-dig
 italisierung-als-baustein-zur-klimaneutralitaet/
SUMMARY:Webseminar „Digitalisierung als Baustein zur Klimaneutralität“
DESCRIPTION:„Das klimaneutrale Unternehmen:\nDigitalisierung als Baustein
  zur Klimaneutralität.“ \n&nbsp\;\n\nWir stellen Ihnen vor\, wie die Di
 gitalisierung Ihr Unternehmen auf dem Weg zur Klimaneutralität begleiten 
 und unterstützen kann. Dabei stellen Ihnen unsere Referent*Innen die Bitk
 om-Studie „Klimaeffekte der Digitalisierung“ vor\, vermitteln Beispiel
 e aus der Unternehmenspraxis sowie Werkzeuge\, die Sie bei der Erstellung 
 von Klimabilanzen und der Ableitung von Zielen und Maßnahmen unterstütze
 n können.\n\n&nbsp\;\n\n&gt\;  Hier finden Sie das Programm.\n\n&nbsp\;\
 n\nHinweis: Wir bitten um Anmeldung über das Formular unten (Anmeldeschlu
 ss: 26.11.!). Sie erhalten dann rechtzeitig eine Termin-Erinnerung und die
  Zugangsdaten.\n\n\n&nbsp\;\n\n&nbsp\;\nErgänzende Informationen finden S
 ie auf unserer Themenseite "Infoinitiative das klimaneutrale Unternehmen"\
 n\n&nbsp\;\nDie Veranstaltung findet statt in Zusammenarbeit mit\n
CATEGORIES:sichtbar auf Startseite
END:VEVENT
BEGIN:VTIMEZONE
TZID:Europe/Berlin
X-LIC-LOCATION:Europe/Berlin
BEGIN:STANDARD
DTSTART:20211031T020000
TZOFFSETFROM:+0200
TZOFFSETTO:+0100
TZNAME:CET
END:STANDARD
END:VTIMEZONE
END:VCALENDAR