
BEGIN:VCALENDAR
VERSION:2.0
PRODID:-//wp-events-plugin.com//6.6.3//EN
TZID:Europe/Berlin
X-WR-TIMEZONE:Europe/Berlin
BEGIN:VEVENT
UID:0-78@veranstaltungen.muenchen.de
DTSTART;TZID=Europe/Berlin:20211021T170000
DTEND;TZID=Europe/Berlin:20211021T190000
DTSTAMP:20211004T143656Z
URL:https://veranstaltungen.muenchen.de/raw/veranstaltungen/webseminar-der
 -klimaneutrale-handwerksbetrieb/
SUMMARY:Webseminar „Der klimaneutrale Handwerksbetrieb“
DESCRIPTION:„Der klimaneutrale Handwerksbetrieb – Anregungen und Beispi
 ele“\n&nbsp\;\n\nIm dritten Webseminar 2021 bieten wir speziell Anregung
 en und Tipps\, die für Handwerksbetriebe passend sind. Klimaneutralität 
 - was muss ich beachten? Und wie geht es voran um dieses Ziel zu erreichen
 ? Wie gewohnt erfahren Sie in unserem Online-Seminar wieder praxiserprobte
  Strategien und sinnvolle Maßnahmen.\n\n\n\n&nbsp\;\n\n&gt\;  Hier finde
 n Sie im Vorfeld das Programm.\n\n&nbsp\;\n\nHinweis: Wir bitten um Anmeld
 ung über das Formular unten. Sie erhalten dann rechtzeitig eine Termin-Er
 innerung und die Zugangsdaten.\n\n\n&nbsp\;\n\n&nbsp\;\nWeitere Web-Semina
 re finden Sie auf unserer Themenseite "Infoinitiative das klimaneutrale Un
 ternehmen"\n\n&nbsp\;\nDie Veranstaltung findet statt in Zusammenarbeit mi
 t\n
CATEGORIES:sichtbar auf Startseite
END:VEVENT
BEGIN:VTIMEZONE
TZID:Europe/Berlin
X-LIC-LOCATION:Europe/Berlin
BEGIN:DAYLIGHT
DTSTART:20210328T030000
TZOFFSETFROM:+0100
TZOFFSETTO:+0200
TZNAME:CEST
END:DAYLIGHT
END:VTIMEZONE
END:VCALENDAR