
BEGIN:VCALENDAR
VERSION:2.0
PRODID:-//wp-events-plugin.com//6.6.3//EN
TZID:Europe/Berlin
X-WR-TIMEZONE:Europe/Berlin
BEGIN:VEVENT
UID:0-348@veranstaltungen.muenchen.de
DTSTART;TZID=Europe/Berlin:20251120T123000
DTEND;TZID=Europe/Berlin:20251120T180000
DTSTAMP:20251120T093756Z
URL:https://veranstaltungen.muenchen.de/raw/veranstaltungen/tourismustag-m
 uenchen-20-november-2025/
SUMMARY:Tourismustag München - 20. November 2025
DESCRIPTION:Der Tourismustag München findet am Donnerstag\, den 20. Novemb
 er 2025 im Paulaner am Nockherberg ab 12.30 Uhr statt.\n\nEine Anmeldung z
 ur Veranstaltung ist bis zum 13.11.2025 möglich.\n\nPersönliche Einschr
 änkungen sind sehr individuell. Bitte zögern Sie nicht\, uns zu kontakti
 eren.\nUm Ihre Wünsche bestmöglich berücksichtigen zu können\, benöti
 gen wir Ihre schriftliche Anfrage bis zum 04.11.2025.\n\nBitte beachten Si
 e: derzeit sind alle Tickets in der Kategorie "Tourismustag" vergeben. Fü
 r die Aufnahme auf der Warteliste melden Sie sich gerne unter: events@muen
 chen.de
ATTACH;FMTTYPE=image/jpeg:https://veranstaltungen.muenchen.de/raw/wp-conte
 nt/uploads/sites/13/Banner_TT_Einladung_2025_2400x750px.jpg
LOCATION:Paulaner am Nockherberg\, Hochstraße 77\, München\, Bayern\, 815
 41\, Deutschland
GEO:48.121751;11.582551
X-APPLE-STRUCTURED-LOCATION;VALUE=URI;X-ADDRESS=Hochstraße 77\, München\,
  Bayern\, 81541\, Deutschland;X-APPLE-RADIUS=100;X-TITLE=Paulaner am Nockh
 erberg:geo:48.121751,11.582551
END:VEVENT
BEGIN:VTIMEZONE
TZID:Europe/Berlin
X-LIC-LOCATION:Europe/Berlin
BEGIN:STANDARD
DTSTART:20251026T020000
TZOFFSETFROM:+0200
TZOFFSETTO:+0100
TZNAME:CET
END:STANDARD
END:VTIMEZONE
END:VCALENDAR