
BEGIN:VCALENDAR
VERSION:2.0
PRODID:-//wp-events-plugin.com//6.6.3//EN
TZID:Europe/Berlin
X-WR-TIMEZONE:Europe/Berlin
BEGIN:VEVENT
UID:0-265@veranstaltungen.muenchen.de
DTSTART;TZID=Europe/Berlin:20241217T090000
DTEND;TZID=Europe/Berlin:20241217T110000
DTSTAMP:20241017T092053Z
URL:https://veranstaltungen.muenchen.de/raw/veranstaltungen/online-infover
 anstaltung_17-12-24/
SUMMARY:Online-Infoveranstaltung für Gründer*innen
DESCRIPTION:Unsere 2-stündige Online-Infoveranstaltung: "Erfolgreich grün
 den-was kommt auf mich zu?" vermittelt einen kompakten Überblick zu grün
 dungsrelevanten Themen wie:\n\n 	Gründungsformalitäten\n 	Rechtsformwahl
  und Steuerüberblick\n 	Private und betriebliche Versicherungen\n 	Busine
 ssplan: Kurzüberblick\n 	Förderangebote und Finanzierungshilfen\n 	Event
 s und Networking\n\nDie Teilnahme ist kostenfrei\, eine Anmeldung ist aber
  erforderlich: Die blaue Anmelde-Maske findet ihr ganz unten.\n\nDen Zugan
 gs-Link zur Online-Konferenz erhaltet ihr einen Tag vor der Veranstaltung.
  Wir freuen uns auf Euch!\n\nEuer Gründungsbüro-Team\n\nMünchner Gründ
 ungsbüro\nDie Gründungsberatung der Stadt München\n\nTelefon: 089 233-2
 1 759  (ab 13:00 Uhr)\nE-Mail: start@muenchen.de | gruenden-muenchen.de\n
 \n
CATEGORIES:sichtbar auf Startseite
END:VEVENT
BEGIN:VTIMEZONE
TZID:Europe/Berlin
X-LIC-LOCATION:Europe/Berlin
BEGIN:STANDARD
DTSTART:20241027T020000
TZOFFSETFROM:+0200
TZOFFSETTO:+0100
TZNAME:CET
END:STANDARD
END:VTIMEZONE
END:VCALENDAR