
BEGIN:VCALENDAR
VERSION:2.0
PRODID:-//wp-events-plugin.com//6.6.3//EN
TZID:Europe/Berlin
X-WR-TIMEZONE:Europe/Berlin
BEGIN:VEVENT
UID:0-239@veranstaltungen.muenchen.de
DTSTART;TZID=Europe/Berlin:20240716T090000
DTEND;TZID=Europe/Berlin:20240716T110000
DTSTAMP:20240514T092803Z
URL:https://veranstaltungen.muenchen.de/raw/veranstaltungen/online-infover
 anstaltung-gruender-07_2024/
SUMMARY:Online-Infoveranstaltung für Gründer*innen
DESCRIPTION:Unsere 2-stündige Online-Infoveranstaltung: "Erfolgreich grün
 den-was kommt auf mich zu?" vermittelt einen kompakten Überblick zu grün
 dungsrelevanten Themen wie:\n\n&nbsp\;\n\n 	Gründungsformalitäten\n 	Rec
 htsformwahl und Steuerüberblick\n 	Private und betriebliche Versicherunge
 n\n 	Businessplan: Kurzüberblick\n 	Förderangebote und Finanzierungshilf
 en\n 	Events und Networking\n\n&nbsp\;\n\nDie Teilnahme ist kostenfrei\, e
 ine Anmeldung ist aber erforderlich: Die blaue Anmelde-Maske findet ihr ga
 nz unten.\n\n&nbsp\;\n\nDen Zugangs-Link zur Online-Konferenz erhaltet ihr
  einen Tag vor der Veranstaltung. Wir freuen uns auf Euch!\n\n&nbsp\;\n\nE
 uer Gründungsbüro-Team\n\n&nbsp\;\n\nMünchner Gründungsbüro\nDie Grü
 ndungsberatung der Stadt München\n\n&nbsp\;\n\nTelefon: 089 233-21 759  
 (ab 13:00 Uhr)\nE-Mail: start@muenchen.de | gruenden-muenchen.de\n\n&nbsp\
 ;\n\n
CATEGORIES:sichtbar auf Startseite
END:VEVENT
BEGIN:VTIMEZONE
TZID:Europe/Berlin
X-LIC-LOCATION:Europe/Berlin
BEGIN:DAYLIGHT
DTSTART:20240331T030000
TZOFFSETFROM:+0100
TZOFFSETTO:+0200
TZNAME:CEST
END:DAYLIGHT
END:VTIMEZONE
END:VCALENDAR