
BEGIN:VCALENDAR
VERSION:2.0
PRODID:-//wp-events-plugin.com//6.6.3//EN
TZID:Europe/Berlin
X-WR-TIMEZONE:Europe/Berlin
BEGIN:VEVENT
UID:0-191@veranstaltungen.muenchen.de
DTSTART;TZID=Europe/Berlin:20260204T173000
DTEND;TZID=Europe/Berlin:20260204T193000
DTSTAMP:20260120T123659Z
URL:https://veranstaltungen.muenchen.de/raw/veranstaltungen/muenchen-sxsw2
 6-kick-off/
SUMMARY:Kick-off Münchner Delegation SXSW 2026
DESCRIPTION:Vom 12.-18. März 2026 findet mit der South by Southwest\, kurz
  SXSW\, wieder das größte Technologie- und Kreativfestival der Welt in A
 ustin\, Texas statt.\n\n&nbsp\;\n\n\n\n&nbsp\;\n\nAuch 2026 wird München 
 wieder mit einer Delegation aus Startups\, Unternehmen\, Kreativen\, Vertr
 eter*innen der Stadt und weiterer Münchner Institutionen vertreten sein.\
 n\n&nbsp\;\n\nAlle\, Münchner*innen\, die an der SXSW 2026 teilnehmen ode
 r teilnehmen möchten\, sind am Mittwoch\, 4. Februar 2026 um 17:30 Uhr z
 u einem Kick-off im Munich Urban Colab eingeladen.\n\n&nbsp\;\n\nWir geben
  einen Einblick\, welche Aktivitäten von munich business und Munich Start
 up und unseren Partnern auf der SXSW geplant sind. Daneben wird es genüge
 nd Zeit für das gegenseitige Kennenlernen geben.\n\n&nbsp\;\n\nWir bitten
  um Anmeldung &gt\; HINWEIS: Momentan kommt es in unserem Anmeldesystem zu
  Störungen. Falls unten die Anmeldung geschlossen ist / "ausgebucht" anze
 igt\, bitten wir hier um Anmeldung per E-Mail. Vielen Dank!\n\n&nbsp\;\nMe
 hr Informationen zur SXSW unter www.sxsw.com\n
CATEGORIES:sichtbar auf Startseite
LOCATION:Munich Urban Colab\, Freddie-Mercury-Straße 5\, München\, 80797\
 , Deutschland
GEO:48.156715;11.551772
X-APPLE-STRUCTURED-LOCATION;VALUE=URI;X-ADDRESS=Freddie-Mercury-Straße 5\,
  München\, 80797\, Deutschland;X-APPLE-RADIUS=100;X-TITLE=Munich Urban Co
 lab:geo:48.156715,11.551772
END:VEVENT
BEGIN:VTIMEZONE
TZID:Europe/Berlin
X-LIC-LOCATION:Europe/Berlin
BEGIN:STANDARD
DTSTART:20251026T020000
TZOFFSETFROM:+0200
TZOFFSETTO:+0100
TZNAME:CET
END:STANDARD
END:VTIMEZONE
END:VCALENDAR