
BEGIN:VCALENDAR
VERSION:2.0
PRODID:-//wp-events-plugin.com//6.6.3//EN
TZID:Europe/Berlin
X-WR-TIMEZONE:Europe/Berlin
BEGIN:VEVENT
UID:0-153@veranstaltungen.muenchen.de
DTSTART;TZID=Europe/Berlin:20250721T180000
DTEND;TZID=Europe/Berlin:20250721T200000
DTSTAMP:20250716T113045Z
URL:https://veranstaltungen.muenchen.de/raw/veranstaltungen/mbq-wirtschaft
 spreis-frauen/
SUMMARY:LaMonachia 2025 - Münchner Wirtschaftspreis für Frauen
DESCRIPTION:Der Oberbürgermeister der Landeshauptstadt München\,\n\nvertr
 eten durch den Referenten für Arbeit und Wirtschaft\, Dr. Christian Schar
 pf\,\n\nlädt Sie herzlich ein zum festlichen Empfang und der Verleihung d
 es Münchner Wirtschaftspreises für Frauen:\n\nLaMonachia 2025\nam Montag
 \, 21. Juli 2025\n18 - 20 Uhr\nim Festsaal des Alten Rathauses \n\nNach d
 er Preisverleihung findet ein Stehempfang statt.\nWir freuen uns\, wenn Si
 e bei der Veranstaltung dabei sind. Da die Plätze begrenzt sind\, ist die
  Teilnahme nur mit einer Anmeldung bis 16. Juli möglich.\n\nWeitere Infor
 mationen finden Sie auf www.muenchen.de/lamonachia\n\n&nbsp\;\n\nFür Rüc
 kfragen schicken Sie uns bitte eine Nachricht an: lamonachia@muenchen.de
CATEGORIES:sichtbar auf Startseite
LOCATION:Altes Rathaus\, Marienplatz 15\, München\, Deutschland
GEO:48.13677800000001;11.576987599999939
X-APPLE-STRUCTURED-LOCATION;VALUE=URI;X-ADDRESS=Marienplatz 15\, München\,
  Deutschland;X-APPLE-RADIUS=100;X-TITLE=Altes Rathaus:geo:48.1367780000000
 1,11.576987599999939
END:VEVENT
BEGIN:VTIMEZONE
TZID:Europe/Berlin
X-LIC-LOCATION:Europe/Berlin
BEGIN:DAYLIGHT
DTSTART:20250330T030000
TZOFFSETFROM:+0100
TZOFFSETTO:+0200
TZNAME:CEST
END:DAYLIGHT
END:VTIMEZONE
END:VCALENDAR