
BEGIN:VCALENDAR
VERSION:2.0
PRODID:-//wp-events-plugin.com//6.6.3//EN
TZID:Europe/Berlin
X-WR-TIMEZONE:Europe/Berlin
BEGIN:VEVENT
UID:0-250@veranstaltungen.muenchen.de
DTSTART;TZID=Europe/Berlin:20241016T170000
DTEND;TZID=Europe/Berlin:20241016T200000
DTSTAMP:20241015T174157Z
URL:https://veranstaltungen.muenchen.de/raw/veranstaltungen/klimapakt-klim
 aherbst/
SUMMARY:Klimapakt: Die Münchner Wirtschaft im Gespräch
DESCRIPTION:\n\n\nDer Klimapakt Münchner Wirtschaft ist eine Initiative de
 s Referats für Arbeit und Wirtschaft mit 16 Münchner Großunternehmen so
 wie drei Kooperationspartnern. Bei der Veranstaltung diskutiert Wirtschaft
 sreferent Clemens Baumgärtner mit Vertreter*innen von Klimapakt-Unternehm
 en und Mitgliedern des Klimarats unter anderem zur Frage\, welche Verantwo
 rtung und Möglichkeiten Unternehmen im Zeichen der Klimakrise haben.\n\n&
 nbsp\;\n\nFragen und Impulse aus dem Publikum sind willkommen. Mehr Mögli
 chkeit zum Austausch bietet der Markt der Begegnung\, auf dem sich die Unt
 ernehmen im Rahmen der Veranstaltung präsentieren.\n\n&nbsp\;\n\nDies ist
  eine Veranstaltung im Rahmen des Klimaherbst 2024.\n\n&nbsp\;\nHinweis: A
 uf der Veranstaltung werden Fotoaufnahmen zur Publikation in Print- und On
 linemedien erstellt. Mit der Anmeldung zu dieser Veranstaltung und Eingabe
  Ihrer Daten erklären Sie sich mit der späteren Verwendung dieser Bildni
 sse für Marketingzwecke (Kanäle von munich business\, Munich Urban Colab
 \, u.a.: Webseite\, Newsletter\, LinkedIn\, Print-Magazin) einverstanden.\
 n&nbsp\;\n\n\n
LOCATION:Munich Urban Colab\, Freddie-Mercury-Straße 5\, München\, 80797\
 , Deutschland
GEO:48.156715;11.551772
X-APPLE-STRUCTURED-LOCATION;VALUE=URI;X-ADDRESS=Freddie-Mercury-Straße 5\,
  München\, 80797\, Deutschland;X-APPLE-RADIUS=100;X-TITLE=Munich Urban Co
 lab:geo:48.156715,11.551772
END:VEVENT
BEGIN:VTIMEZONE
TZID:Europe/Berlin
X-LIC-LOCATION:Europe/Berlin
BEGIN:DAYLIGHT
DTSTART:20240331T030000
TZOFFSETFROM:+0100
TZOFFSETTO:+0200
TZNAME:CEST
END:DAYLIGHT
END:VTIMEZONE
END:VCALENDAR