
BEGIN:VCALENDAR
VERSION:2.0
PRODID:-//wp-events-plugin.com//6.6.3//EN
TZID:Europe/Berlin
X-WR-TIMEZONE:Europe/Berlin
BEGIN:VEVENT
UID:0-152@veranstaltungen.muenchen.de
DTSTART;TZID=Europe/Berlin:20230619T190000
DTEND;TZID=Europe/Berlin:20230619T213000
DTSTAMP:20230616T121758Z
URL:https://veranstaltungen.muenchen.de/raw/veranstaltungen/kino-europa-zu
 sammenleben/
SUMMARY:Kino Europa: Zusammenleben
DESCRIPTION:Montag\, 19. Juni 2023\, 19:00 Uhr | Projektor\, HP8\n(Hans-Pre
 ißinger-Straße 8\, 81379 München)\n\n&nbsp\;\n\nÖsterreich 2022 | 90 m
 in | Regie: Thomas Fürhapter\n\n&nbsp\;\n\nWelche Vorstellungen haben Mig
 rant*innen von Wien und Österreich\, welche Informationen und „Werte“
  werden in Integrationskursen angesprochen\, welche bleiben ausgespart? Th
 omas Fürhapter dokumentiert Kurse\, in denen sowohl Rechtliches als auch 
 ganz Privates zur Sprache kommt. Zwischen Kulturvermittlung und Gesprächs
 kreis entsteht ein komplexes Dokument von Vielfalt\, samt den mit ihr einh
 ergehenden mannigfaltigen Irritationsmomenten und Herausforderungen.\n\n&n
 bsp\;\n\nIm Anschluss an den Dokumentarfilm diskutieren Daniel Sponsel\, K
 ünstlerischer Leiter und Geschäftsführer des DOK.fest und Regisseur Tho
 mas Fürhapter miteinander und mit Ihnen über den Film.\n\n&nbsp\;\n\nHie
 r können Sie sich den Trailer zum Film ansehen: ZUM TRAILER\n\n&nbsp\;\n\
 nKino Europa wird Ihnen präsentiert vom Europe Direct München in Zusamme
 narbeit mit dem Creative Europe Desk München\, dem Verbindungsbüro des E
 uropäischen Parlaments in München\, der Münchner Stadtbibliothek und de
 r Petra-Kelly-Stiftung. Die Veranstaltung ist wie immer kostenlos. Wir fre
 uen uns auf einen herausragenden europäischen Film!\n\n&nbsp\;\nWir empfe
 hlen weiterhin das Tragen einer medizinischen Maske oder FFP2-Maske bei Ve
 ranstaltungen am Sitzplatz\, auch wenn die Maskenpflicht entfällt. Weiter
 e Informationen dazu HIER. Durch die Anmeldung zur Veranstaltung erklären
  Sie sich einverstanden\, dass eventuelle Bildaufnahmen zu Zwecken der Öf
 fentlichkeitsarbeit durch die Veranstalter gemacht werden.  Die Aufnahmen
  können in gedruckten Publikationen der Veranstalter\, im Internetauftrit
 t oder im Intranet veröffentlicht werden. Weitere Informationen unter: ht
 tps://veranstaltungen.muenchen.de/raw/datenschutz/.
LOCATION:HP 8 | Projektor\, Hans-Preißinger-Str. 8\, München\, Deutschlan
 d
GEO:48.111448;11.554188
X-APPLE-STRUCTURED-LOCATION;VALUE=URI;X-ADDRESS=Hans-Preißinger-Str. 8\, M
 ünchen\, Deutschland;X-APPLE-RADIUS=100;X-TITLE=HP 8 | Projektor:geo:48.1
 11448,11.554188
END:VEVENT
BEGIN:VTIMEZONE
TZID:Europe/Berlin
X-LIC-LOCATION:Europe/Berlin
BEGIN:DAYLIGHT
DTSTART:20230326T030000
TZOFFSETFROM:+0100
TZOFFSETTO:+0200
TZNAME:CEST
END:DAYLIGHT
END:VTIMEZONE
END:VCALENDAR