
BEGIN:VCALENDAR
VERSION:2.0
PRODID:-//wp-events-plugin.com//6.6.3//EN
TZID:Europe/Berlin
X-WR-TIMEZONE:Europe/Berlin
BEGIN:VEVENT
UID:0-277@veranstaltungen.muenchen.de
DTSTART;TZID=Europe/Berlin:20250203T183000
DTEND;TZID=Europe/Berlin:20250203T210000
DTSTAMP:20250120T055224Z
URL:https://veranstaltungen.muenchen.de/raw/veranstaltungen/kino-europa-wa
 ltzing-matilda/
SUMMARY:Kino Europa: Waltzing Matilda (Tancuj Matyldo)\, OmdU
DESCRIPTION:Die Veranstaltung ist ausgebucht! Auch die Warteliste ist voll.
 \n\n&nbsp\;\n\nHINWEIS: START DIESMAL UM 18:30 UHR!\n\n&nbsp\;\n\nMontag\,
  3. Februar\, 18:30 Uhr | Projektor\, \n(Hans-Preißinger-Straße 8\, 8137
 9 München)\n\n&nbsp\;\n\nTschechien 2023 | 113 Minuten | Regie: Petr Slav
 ík\n\n&nbsp\;\n\nTancuj Matyldo (Waltzing Matilda) ist eine tragikomische
  Familiengeschichte\, die mit Feingefühl und Humor zentrale Themen wie Ge
 nerationskonflikte\, Krankheit und die Bedeutung familiären Zusammenhalts
  beleuchtet. Im Mittelpunkt steht Karel\, ein disziplinierter und ordnungs
 liebender Mann\, der seine unkonventionelle Mutter Matylda\, eine frühere
  Barsängerin\, nach dem Verlust ihrer Wohnung bei sich aufnimmt.\n\n&nbsp
 \;\n\nDie Lage spitzt sich zu\, als bei Matylda erste Anzeichen von Alzhei
 mer erkennbar werden. Aus einem Pflichtgefühl heraus zögert Karel\, sie 
 in ein Heim zu geben\, obwohl das Zusammenleben zunehmend herausfordernd w
 ird. Unterstützung erhält die Familie von Karels Sohn Pavel\, einem verm
 eintlich verantwortungslosen jungen Mann\, dessen Beziehung zu seinem Vate
 r von Spannungen geprägt ist. Trotz aller Konflikte und unerwarteter Wend
 ungen bringt die schwierige Situation die drei Protagonisten einander näh
 er – und lässt sie neue Facetten von sich selbst und ihrer Familie entd
 ecken.\n\n&nbsp\;\n\nWir präsentieren den Film in Kooperation mit dem Tsc
 hechischen Zentrum München und dem Mittel Punkt Europa Filmfest. Es folgt
  ein Filmgespräch mit Adrian Prechtel\, Kinoredakteur der Abendzeitung.\n
 \n&nbsp\;\n\nHier können Sie sich den Trailer zum Film ansehen: ZUM TRAIL
 ER\n\n&nbsp\;\n\nKino Europa wird Ihnen präsentiert vom Europe Direct Mü
 nchen in Zusammenarbeit mit dem Creative Europe Desk München\, dem Verbin
 dungsbüro des Europäischen Parlaments in München\, der Münchner Stadtb
 ibliothek und der Petra-Kelly-Stiftung.\n\n&nbsp\;\n\nDie Veranstaltung is
 t wie immer kostenlos. Der Veranstaltungsort ist barrierefrei zugänglich.
  Wir freuen uns auf einen herausragenden europäischen Film!\n\n&nbsp\;\nH
 inweis: Bitte melden Sie jede*n Teilnehmer*in einzeln mit Namen an.\n&nbsp
 \;\nBildnachweis: Screenshot Tancuj Matyldo
ATTACH;FMTTYPE=image/jpeg:https://veranstaltungen.muenchen.de/raw/wp-conte
 nt/uploads/sites/13/regina-razlova-a-karel-roden-ve-filmu-tancuj-matyldo-1
 024x768-1.jpg
LOCATION:HP 8 | Projektor\, Hans-Preißinger-Str. 8\, München\, Deutschlan
 d
GEO:48.111448;11.554188
X-APPLE-STRUCTURED-LOCATION;VALUE=URI;X-ADDRESS=Hans-Preißinger-Str. 8\, M
 ünchen\, Deutschland;X-APPLE-RADIUS=100;X-TITLE=HP 8 | Projektor:geo:48.1
 11448,11.554188
END:VEVENT
BEGIN:VTIMEZONE
TZID:Europe/Berlin
X-LIC-LOCATION:Europe/Berlin
BEGIN:STANDARD
DTSTART:20241027T020000
TZOFFSETFROM:+0200
TZOFFSETTO:+0100
TZNAME:CET
END:STANDARD
END:VTIMEZONE
END:VCALENDAR