
BEGIN:VCALENDAR
VERSION:2.0
PRODID:-//wp-events-plugin.com//6.6.3//EN
TZID:Europe/Berlin
X-WR-TIMEZONE:Europe/Berlin
BEGIN:VEVENT
UID:0-70@veranstaltungen.muenchen.de
DTSTART;TZID=Europe/Berlin;VALUE=DATE:20210717
DTEND;TZID=Europe/Berlin;VALUE=DATE:20210719
DTSTAMP:20210715T153848Z
URL:https://veranstaltungen.muenchen.de/raw/veranstaltungen/kino-europa-th
 e-county-online/
SUMMARY:Kino Europa ONLINE: Milchkrieg in Dalsmynni\, OmdU
DESCRIPTION:\n\nVor der malerischen Kulisse Islands beweist Milchkrieg in D
 alsmynni\, dass es manchmal nur einer Person bedarf\, um Änderungen zu be
 wirken. Nach seinem internationalen Erfolg Sture Böcke hat Regisseur Grí
 mur Hákonarson in seinem neuen Film mit Inga (großartig verkörpert von 
 der isländischen Schauspielerin Arndís Hrönn Egilsdóttir) diesmal eine
  starke weibliche Hauptfigur erschaffen\, die es im Alleingang gegen eine 
 korrupte landwirtschaftliche Kooperative in ihrem Bezirk aufnimmt. Milchkr
 ieg in Dalsmynni  lief im Wettbewerb des Toronto Filmfestivals\, wo er mi
 t seinen aktuellen Bezügen und seinem trockenen\, nordischen Humor Publik
 um wie Presse gleichermaßen begeisterte.\n\n&nbsp\;\n\nWir werden leider 
 den Carl Amery Saal im Gasteig nicht ganz füllen können - können aber e
 inige Online-Tickets für den Film vergeben. Sollten sich kurzfristig die 
 Vorgaben ändern\, bieten wir gerne den für die Online-Vorführung Angeme
 ldeten die Möglichkeit\, noch vor Ort dabei zu sein. Im Gespräch im Ansc
 hluss an den Film wollen wir mit Jan Renner vom Verein Mehr Demokratie e.V
 . darüber sprechen\, wie jede*r Einzelne von uns\, seiner Stimme Gehör v
 erschaffen kann.\n\n&nbsp\;\n\n17./18. Juli Filmvorführung online und Fil
 mgespräch über Zoom am 19. Juli 2021\, 20:45 Uhr\n\n\n&nbsp\;\n\nKino Eu
 ropa wird Ihnen präsentiert vom Europa Informationszentrum München in Zu
 sammenarbeit mit dem Creative Europe Desk München\, dem Verbindungsbüro 
 des Europäischen Parlaments in München\, der Münchner Stadtbibliothek u
 nd der Petra-Kelly-Stiftung. Die Veranstaltung ist wie immer kostenlos.
END:VEVENT
BEGIN:VTIMEZONE
TZID:Europe/Berlin
X-LIC-LOCATION:Europe/Berlin
BEGIN:DAYLIGHT
DTSTART:20210328T030000
TZOFFSETFROM:+0100
TZOFFSETTO:+0200
TZNAME:CEST
END:DAYLIGHT
END:VTIMEZONE
END:VCALENDAR