
BEGIN:VCALENDAR
VERSION:2.0
PRODID:-//wp-events-plugin.com//6.6.3//EN
TZID:Europe/Berlin
X-WR-TIMEZONE:Europe/Berlin
BEGIN:VEVENT
UID:0-217@veranstaltungen.muenchen.de
DTSTART;TZID=Europe/Berlin:20240422T190000
DTEND;TZID=Europe/Berlin:20240422T213000
DTSTAMP:20240410T064219Z
URL:https://veranstaltungen.muenchen.de/raw/veranstaltungen/kino-europa-su
 rf-on-europe/
SUMMARY:Kino Europa: Surf On\, Europe! (OmdU)
DESCRIPTION:\n\nMontag\, 22. April 2024\, 19:00 Uhr | Projektor\, HP8\n(Han
 s-Preißinger-Straße 8\, 81379 München)\n\n&nbsp\;\n\nDeutschland 2024 |
  92 min | Regie: Constantin Gross und Lukas Steinbrecher\n\n&nbsp\;\n\n&nb
 sp\;\n\n&nbsp\;\nDie Veranstaltung ist ausgebucht. Tragen Sie sich gerne a
 uf die Warteliste ein\, wir melden uns dann bei Ihnen sollte kurzfristig n
 och ein Platz frei werden.\n&nbsp\;\n\nDer Dokumentarfilm spielt an der we
 steuropäischen Küste und betrachtet soziale und politische Herausforderu
 ngen durch das Prisma der Surfkultur. Er dreht sich um das Leben dreier Su
 rf-Enthusiasten\, von denen jeder auf seine Weise mit den europäischen No
 rmen und Idealen zu kämpfen hat: Sie sind zerrissen zwischen der Freiheit
  der Wellen und den Grenzen der Gesellschaft: Majid\, ein Kitesurf-Lehrer 
 in Tarifa\, sehnt sich nach seiner Familie in Marokko\, die wegen Visa-Bes
 chränkungen dort feststeckt. Margaux organisiert in Biarritz das erste LG
 BTQ-freundliche Surf-Festival Europas. Und Rosy\, ein nordirischer Surfbre
 tt-Shaper\, sucht Halt inmitten einer tief gespaltenen Community.\n\n&nbsp
 \;\n\nIm Anschluss diskutieren Daniel Sponsel\, Künstlerischer Leiter und
  Geschäftsführer des DOK.fest und Regisseur Lukas Steinbrecher über den
  Film und aktuelle Entwicklungen in Europa.\n\n&nbsp\;\n\nHier können Sie
  sich den Trailer zum Film ansehen: ZUM TRAILER\n\n&nbsp\;\n\nKino Europa 
 wird Ihnen präsentiert vom Europe Direct München in Zusammenarbeit mit d
 em Creative Europe Desk München\, dem Verbindungsbüro des Europäischen 
 Parlaments in München\, der Münchner Stadtbibliothek und der Petra-Kelly
 -Stiftung. Die Veranstaltung ist wie immer kostenlos. Der Veranstaltungsor
 t ist barrierefrei zugänglich. Wir freuen uns auf einen herausragenden eu
 ropäischen Film!\n
LOCATION:HP 8 | Projektor\, Hans-Preißinger-Str. 8\, München\, Deutschlan
 d
GEO:48.111448;11.554188
X-APPLE-STRUCTURED-LOCATION;VALUE=URI;X-ADDRESS=Hans-Preißinger-Str. 8\, M
 ünchen\, Deutschland;X-APPLE-RADIUS=100;X-TITLE=HP 8 | Projektor:geo:48.1
 11448,11.554188
END:VEVENT
BEGIN:VTIMEZONE
TZID:Europe/Berlin
X-LIC-LOCATION:Europe/Berlin
BEGIN:DAYLIGHT
DTSTART:20240331T030000
TZOFFSETFROM:+0100
TZOFFSETTO:+0200
TZNAME:CEST
END:DAYLIGHT
END:VTIMEZONE
END:VCALENDAR