
BEGIN:VCALENDAR
VERSION:2.0
PRODID:-//wp-events-plugin.com//6.6.3//EN
TZID:Europe/Berlin
X-WR-TIMEZONE:Europe/Berlin
BEGIN:VEVENT
UID:0-92@veranstaltungen.muenchen.de
DTSTART;TZID=Europe/Berlin:20220314T190000
DTEND;TZID=Europe/Berlin:20220314T210000
DTSTAMP:20220304T065419Z
URL:https://veranstaltungen.muenchen.de/raw/veranstaltungen/kino-europa-ro
 sas-hochzeit/
SUMMARY:Kino Europa: Rosas Hochzeit (La Boda de Rosa)
DESCRIPTION:Montag\, 14. März 2022 | Projektor\, HP8\n(Hans-Preißinger-St
 raße 8\, 81379 München) \n\n\n&nbsp\;\n\nDIESE VERANSTALTUNG IST AUSGEBU
 CHT: Gerne nehmen wir Sie auf die Warteliste auf und geben Bescheid falls 
 es Absagen geben sollte. Bitte senden Sie dafür eine E-Mail mit dem Betre
 ff "Kino Europa: Warteliste" an europe-direct@muenchen.de.\n\n&nbsp\;\n\nK
 urz vor ihrem 45. Geburtstag beschließt Rosa\, dass es Zeit für einen ra
 dikalen Wandel in ihrem Leben ist. Immer hat sie für die anderen gelebt\,
  in ihrem Job als Kostümbildnerin bis zum Umfallen gearbeitet\, den Vater
  zum Arzt begleitet\, sich um die Kinder ihres Bruders gekümmert. Knall a
 uf Fall verlässt sie Valencia\, um sich im alten Schneiderladen ihrer Mut
 ter im kleinen Küstenort Benicassim den Traum vom eigenen Atelier zu erf
 üllen. Aber es ist nicht so leicht\, das Leben in die eigenen Hände zu n
 ehmen. Ihr Vater\, die Geschwister\, ihr Freund und ihre Tochter\, alle mi
 t eigenen Plänen und Problemen: Das Handy hört gar nicht mehr auf zu kli
 ngeln. Rosa beschließt\, ein Zeichen zu setzen: Sie will heiraten. Und di
 ese Hochzeit wird eine ganz besondere sein.\n\n&nbsp\;\n\nMit ROSAS HOCHZE
 IT ist Iciar Bollain ein Überraschungs-Hit in Spanien gelungen: Eine dram
 atische Komödie\, die Geschichte einer Befreiung\, mit einem herausragend
 en Ensemble\, allen voran der umwerfenden Candela Peña – „ein Film in
  der besten Tradition des spanischen Kinos\, unterhaltsam\, mediterran\, f
 röhlich.“\n\n&nbsp\;\n\nSo wie es ihr schon mit EL OLIVO – DER OLIVEN
 BAUM gelungen ist\, glückt Iciar Bollain auch hier engagiertes Kino ohne 
 Zeigefinger und Schwerfälligkeit. Das Lachen\, das sich dem hinreißenden
  Spiel eines begnadeten Ensembles verdankt\, verdeckt weder den feministis
 chen Anspruch noch den hartnäckigen Kampf um Selbstachtung\, mit dem sich
  so viele Frauen identifizieren. (EL CORREO)\n\n&nbsp\;\n\nAnschließend f
 indet ein Filmgespräch statt. Diesmal mit Frau Dr. Andrea Rothe\, Vorsitz
 ende der FAM Frauenakademie München e. V.. Die FAM ist ein außeruniversi
 täres Forschungsinstitut für Frauen- und Geschlechterfragen. Als unabhä
 ngiger\, gemeinnütziger Verein hat sie sich zum Ziel gesetzt\, die Gleich
 stellung und Chancengleichheit von Frauen und Männern in allen gesellscha
 ftlichen Bereichen zu fördern. Verpassen Sie nicht die Gelegenheit\, den 
 Film auch aus der Praxisperspektive zu diskutieren und zu reflektieren.\n\
 n&nbsp\;\n\nDie Vorführung vor Ort ist immer abhängig von den aktuellen 
 Corona-Regeln.  Derzeit gilt für Veranstaltungen im HP8 die 2G-Regel\, b
 itte bringen Sie einen entsprechenden Nachweis zur Vorführung mit. Die je
 weils aktuellen Corona-Regelungen des Gasteig HP8 finden sie HIER.\n\n\n&n
 bsp\;\n\nKino Europa wird Ihnen präsentiert vom Europe Direct München in
  Zusammenarbeit mit dem Creative Europe Desk München\, dem Verbindungsbü
 ro des Europäischen Parlaments in München\, der Münchner Stadtbibliothe
 k und der Petra-Kelly-Stiftung. Die Veranstaltung ist wie immer kostenlos.
  Wir freuen uns auf einen herausragenden europäischen Film!
END:VEVENT
BEGIN:VTIMEZONE
TZID:Europe/Berlin
X-LIC-LOCATION:Europe/Berlin
BEGIN:STANDARD
DTSTART:20211031T020000
TZOFFSETFROM:+0200
TZOFFSETTO:+0100
TZNAME:CET
END:STANDARD
END:VTIMEZONE
END:VCALENDAR