
BEGIN:VCALENDAR
VERSION:2.0
PRODID:-//wp-events-plugin.com//6.6.3//EN
TZID:Europe/Berlin
X-WR-TIMEZONE:Europe/Berlin
BEGIN:VEVENT
UID:0-57@veranstaltungen.muenchen.de
DTSTART;TZID=Europe/Berlin;VALUE=DATE:20210410
DTEND;TZID=Europe/Berlin;VALUE=DATE:20210412
DTSTAMP:20210412T185210Z
URL:https://veranstaltungen.muenchen.de/raw/veranstaltungen/kino-europa-pu
 sh/
SUMMARY:Kino Europa: PUSH - Für das Grundrecht auf Wohnen (OmdU)
DESCRIPTION:Diesmal thematisiert Kino Europa die steigende Wohnungsnot in e
 uropäischen und internationalen Großstädten. Überall auf der Welt schn
 ellen die Mietpreise in den Städten in die Höhe. Die Einkommen tun das n
 icht. PUSH folgt Leilani Farha\, der UN-Sonderberichterstatterin für das 
 Menschenrecht auf Wohnen\, auf ihren Reisen um die Welt\, um herauszufinde
 n\, wer aus der Stadt gepusht wird und warum.\n\n&nbsp\;\n\nDer Film steht
  am 10. und 11. April im Originalton mit deutschen Untertiteln zur Verfüg
 ung. Melden Sie sich über das Formular unten an\, Sie erhalten dann kurz 
 vor Beginn des Vorführ-Wochenendes einen Link und ein Passwort zur digita
 len Vorstellung.\n\n&nbsp\;\n\nAnschließend findet am Montag\, den 12. Ap
 ril um 19:30 Uhr ein digitales Filmgespräch über Zoom statt: Daniel Spon
 sel\, Leiter des DOK.fest München\, und Jens S. Dangschat\, Stadtsoziolog
 e und emeritierter Professor der TU Wien\, laden zur Diskussion über den 
 Film ein.  Die Einwahldaten erhalten Sie nach Ihrer Anmeldung zusammen mi
 t dem Link zum Film.\n\n&nbsp\;\n\nKino Europa wird Ihnen präsentiert vom
  Europa Informationszentrum München in Zusammenarbeit mit dem Creative Eu
 rope Desk München\, dem Verbindungsbüro des Europäischen Parlaments in 
 München\, der Münchner Stadtbibliothek und der Petra-Kelly-Stiftung. Die
  Veranstaltung ist wie immer kostenlos.
END:VEVENT
BEGIN:VTIMEZONE
TZID:Europe/Berlin
X-LIC-LOCATION:Europe/Berlin
BEGIN:DAYLIGHT
DTSTART:20210328T030000
TZOFFSETFROM:+0100
TZOFFSETTO:+0200
TZNAME:CEST
END:DAYLIGHT
END:VTIMEZONE
END:VCALENDAR