
BEGIN:VCALENDAR
VERSION:2.0
PRODID:-//wp-events-plugin.com//6.6.3//EN
TZID:Europe/Berlin
X-WR-TIMEZONE:Europe/Berlin
BEGIN:VEVENT
UID:0-80@veranstaltungen.muenchen.de
DTSTART;TZID=Europe/Berlin:20211011T190000
DTEND;TZID=Europe/Berlin:20211011T210000
DTSTAMP:20211005T072342Z
URL:https://veranstaltungen.muenchen.de/raw/veranstaltungen/kino-europa-ok
 tober/
SUMMARY:Kino Europa: Kollektiv – Korruption tötet
DESCRIPTION:Montag\, 11. Oktober 2021 | Black Box\, Gasteig\n\n\n&nbsp\;\n\
 nDie rumänische Dokumentation begleitet Investigativ-Journalisten bei der
  Aufdeckung eines der größten Politikskandale der letzten Jahre. Der pre
 isgekrönte und für den Oscar nominierte Film KOLLEKTIV - KORRUPTION TÖT
 ET spielt in Bukarest\, ausgehend von Ereignissen in einer Nacht im Oktobe
 r 2015: Bei einem Konzert im Club „Colectiv“ bricht ein Feuer aus\, 27
  Menschen sterben\, 180 weitere werden verletzt. Doch bald sterben auch Br
 andopfer ohne lebensbedrohliche Verletzungen in den Krankenhäusern an ihr
 en Wunden. Ein Team von Investigativ-Journalisten erfährt durch eine Ärz
 tin von großen Missständen und enthüllt darauf einen massiven Betrug im
  Gesundheitswesen\, das von Korruption geprägt ist. Einblicke in die Arbe
 it der Journalisten gewährt der Film KOLLEKTIV - KORRUPTION TÖTET. Die r
 umänische Dokumentation gewann 2021 den europäischen Publikumsfilmpreis 
 LUX\, der vom Europäischen Parlament und der European Film Academy verlie
 hen wird.\n\n&nbsp\;\n\nDie Vorführung vor Ort ist immer abhängig von de
 n aktuellen Corona-Regeln.  Derzeit besagen diese\, dass durch die Einhal
 tung eines entsprechenden Abstandes die Maskenpflicht am Sitzplatz entfall
 en kann. Ab einer Inzidenz von 35 gilt die 3G-Regelung\, also dass geteste
 te\, geimpfte oder genesene Menschen eingelassen werden dürfen. Bitte bri
 ngen Sie einen entsprechenden Nachweis zur Vorführung mit. Sollte sich di
 e Regelung noch einmal ändern\, werden wir Sie informieren. \n\n&nbsp\;\n
 \nKino Europa wird Ihnen präsentiert vom Europe Direct München in Zusamm
 enarbeit mit dem Creative Europe Desk München\, dem Verbindungsbüro des 
 Europäischen Parlaments in München\, der Münchner Stadtbibliothek und d
 er Petra-Kelly-Stiftung. Die Veranstaltung ist wie immer kostenlos. Wir fr
 euen uns auf einen herausragenden europäischen Film!
END:VEVENT
BEGIN:VTIMEZONE
TZID:Europe/Berlin
X-LIC-LOCATION:Europe/Berlin
BEGIN:DAYLIGHT
DTSTART:20210328T030000
TZOFFSETFROM:+0100
TZOFFSETTO:+0200
TZNAME:CEST
END:DAYLIGHT
END:VTIMEZONE
END:VCALENDAR