
BEGIN:VCALENDAR
VERSION:2.0
PRODID:-//wp-events-plugin.com//6.6.3//EN
TZID:Europe/Berlin
X-WR-TIMEZONE:Europe/Berlin
BEGIN:VEVENT
UID:0-106@veranstaltungen.muenchen.de
DTSTART;TZID=Europe/Berlin:20220620T190000
DTEND;TZID=Europe/Berlin:20220620T210000
DTSTAMP:20220620T093437Z
URL:https://veranstaltungen.muenchen.de/raw/veranstaltungen/kino-europa-no
 rwegian-headache-omeu/
SUMMARY:Kino Europa: Norwegian Headache (OmeU)
DESCRIPTION:Montag\, 20. Juni 2022 | Projektor\, HP8\n(Hans-Preißinger-Str
 aße 8\, 81379 München)\n\n\n&nbsp\;\n\nWir zeigen den Film im Originalto
 n mit englischen Untertiteln.\n\n&nbsp\;\n\nEs gibt ein kleines Land im No
 rden Europas\, dessen Verfassung ein Recht auf saubere Umwelt verankert ha
 t. Fridays for Future-Norwegen verklagt also die eigene Regierung\, denn m
 oralische Appelle und wissenschaftliche Erkenntnisse prallen seit Jahren a
 uf Ignoranz. Der Dokumentarfilm begleitet beide Seiten\, wie sie Gerichtst
 ermine und Argumentationslinien vorbereiten: Ein Kampf zwischen Bürger*in
 nen und Politik\, um Umwelt und Wohlstand. Ein fesselndes Gerichtsdrama ü
 ber Macht und Ohnmacht\, Recht und Gerechtigkeit\, Hoffnungen und Ängste 
 sowie die Frage\, ob wir die Welt noch retten können.\n\n&nbsp\;\n\nIm An
 schluss diskutieren Daniel Sponsel\, Leiter des Münchner DOK.fest und Nic
 olas von Fridays for Future über den Film.\n\n&nbsp\;\n\nZum Trailer: HIE
 R\n\n&nbsp\;\nSeit Sonntag\, 3. April 2022\, entfallen aufgrund des neuen 
 Bundesinfektionsschutzgesetzes viele Corona-Schutzmaßnahmen. Das bedeutet
  für Ihren Besuch im Gasteig: Keine Einschränkungen mehr für alle Besuc
 her*innen: Sämtliche Kontrollen (2G\, 2Gplus\, 3G) fallen weg. Test- oder
  Impfnachweise sind nicht mehr erforderlich. Wir empfehlen weiterhin das T
 ragen einer medizinischen Maske oder FFP2-Maske bei Veranstaltungen am Sit
 zplatz\, auch wenn die Maskenpflicht mit der neuen Verordnung entfällt. W
 eitere Informationen dazu  HIER.\n&nbsp\;\nKino Europa wird Ihnen präsent
 iert vom Europe Direct München in Zusammenarbeit mit dem Creative Europe 
 Desk München\, dem Verbindungsbüro des Europäischen Parlaments in Münc
 hen\, der Münchner Stadtbibliothek und der Petra-Kelly-Stiftung. Die Vera
 nstaltung ist wie immer kostenlos. Wir freuen uns auf einen herausragenden
  europäischen Film!
LOCATION:HP 8 | Projektor\, Hans-Preißinger-Str. 8\, München\, Deutschlan
 d
GEO:48.111448;11.554188
X-APPLE-STRUCTURED-LOCATION;VALUE=URI;X-ADDRESS=Hans-Preißinger-Str. 8\, M
 ünchen\, Deutschland;X-APPLE-RADIUS=100;X-TITLE=HP 8 | Projektor:geo:48.1
 11448,11.554188
END:VEVENT
BEGIN:VTIMEZONE
TZID:Europe/Berlin
X-LIC-LOCATION:Europe/Berlin
BEGIN:DAYLIGHT
DTSTART:20220327T030000
TZOFFSETFROM:+0100
TZOFFSETTO:+0200
TZNAME:CEST
END:DAYLIGHT
END:VTIMEZONE
END:VCALENDAR