
BEGIN:VCALENDAR
VERSION:2.0
PRODID:-//wp-events-plugin.com//6.6.3//EN
TZID:Europe/Berlin
X-WR-TIMEZONE:Europe/Berlin
BEGIN:VEVENT
UID:0-363@veranstaltungen.muenchen.de
DTSTART;TZID=Europe/Berlin:20260209T183000
DTEND;TZID=Europe/Berlin:20260209T213000
DTSTAMP:20260206T125227Z
URL:https://veranstaltungen.muenchen.de/raw/veranstaltungen/kino-europa-lo
 ve-me-tender/
SUMMARY:Kino Europa zeigt "Love Me Tender"
DESCRIPTION:Montag\, 9. Februar\, 18:30 Uhr | Projektor\, \n(Hans-Preißing
 er-Straße 8\, 81379 München)\n\n&nbsp\;\n\nLove Me Tender\n\nFrankreich 
 2025 | 134 Min | FSK:16 | Regie: Anna Cazenave Cambet\n\nWir zeigen die fr
 anzösische Originalfassung mit deutschen Untertiteln.\n\n&nbsp\;\n\n&nbsp
 \;\nNeues Jahr – neue europäische Filme!\nWir starten Kino Europa 2026 
 mit einem der fünf Finalisten des LUX-Publikumspreises: einem eindrucksvo
 llen LGBTQI+-Drama aus Frankreich.\n&nbsp\;\nSpätsommer in Paris: Clémen
 ce\, ehemalige Anwältin und angehende Schriftstellerin\, entdeckt ihr Beg
 ehren gegenüber Frauen. Als ihr Ex-Mann ihr aufgrund ihres Lebensstils de
 n Kontakt zum gemeinsamen Sohn entzieht\, beginnt ein intensiver Kampf –
  um das Sorgerecht ebenso wie um ihre sexuelle und intellektuelle Selbstbe
 stimmung. Love Me Tender erzählt mit großer emotionaler Wucht vom Ringen
  einer Frau zwischen dem Wunsch nach Freiheit und den gesellschaftlichen E
 rwartungen an sie als Mutter und Ehefrau. Beim Filmfestival in Cannes gefe
 iert\, ist der Film direkt\, mutig und konsequent widerständig gegenüber
  einfachen Antworten.\n&nbsp\;\n\nIm Anschluss folgt ein Filmgespräch mit
  Paula Lochte. Sie ist freie Journalistin und arbeitet seit 2020 als Autor
 in für Radiosendungen und Podcasts beim Bayerischen Rundfunk. Ihre Themen
 schwerpunkte liegen in den Bereichen Geschichte\, Politik und Popkultur\, 
 mit einem besonderen Fokus auf Frauenbiografien und feministische Frageste
 llungen.\n\n&nbsp\;\nDer LUX-Publikumspreis wird jährlich vom Europäisch
 en Parlament und der Europäischen Filmakademie in Zusammenarbeit mit der 
 Europäischen Kommission und Europa Cinemas verliehen. Er würdigt herausr
 agende europäische Filmproduktionen und lädt das Publikum zur aktiven Mi
 tbestimmung ein. Ihre Stimme zählt: Sehen Sie die fünf für den LUX-Publ
 ikumspreis 2026 nominierten Filme und bewerten Sie sie auf einer Skala von
  einem Stern (schlecht) bis fünf Sterne (ausgezeichnet)\, um den Gewinner
 film mitzubestimmen: https://lux-award.europarl.europa.eu/de.\n&nbsp\;\n\n
 Sehen Sie sich HIER den Trailer zum Film an.\n\n&nbsp\;\n\nKino Europa wir
 d Ihnen präsentiert vom Europe Direct München in Zusammenarbeit mit dem 
 Creative Europe Desk München\, dem Verbindungsbüro des Europäischen Par
 laments in München\, der Münchner Stadtbibliothek und der Petra-Kelly-St
 iftung.\n\n&nbsp\;\n\nDie Veranstaltung ist wie immer kostenlos. Der Veran
 staltungsort ist barrierefrei zugänglich. Wir freuen uns auf einen heraus
 ragenden europäischen Film!\n\nHinweis: Bitte melden Sie jede*n Teilnehme
 r*in einzeln mit Namen an.\n&nbsp\;\nBild: Salzgeber Filmverleih
ATTACH;FMTTYPE=image/jpeg:https://veranstaltungen.muenchen.de/raw/wp-conte
 nt/uploads/sites/13/neu_klein_klein_LoveMeTender_Presse_01-1.jpg
LOCATION:Gasteig HP 8 - Projektor\, Hans-Preißinger-Straße 8\, 81379 Mün
 chen\, München\, 80331\, Deutschland
X-APPLE-STRUCTURED-LOCATION;VALUE=URI;X-ADDRESS=Hans-Preißinger-Straße 8\
 , 81379 München\, München\, 80331\, Deutschland;X-APPLE-RADIUS=100;X-TIT
 LE=Gasteig HP 8 - Projektor:geo:0,0
END:VEVENT
BEGIN:VTIMEZONE
TZID:Europe/Berlin
X-LIC-LOCATION:Europe/Berlin
BEGIN:STANDARD
DTSTART:20251026T020000
TZOFFSETFROM:+0200
TZOFFSETTO:+0100
TZNAME:CET
END:STANDARD
END:VTIMEZONE
END:VCALENDAR