
BEGIN:VCALENDAR
VERSION:2.0
PRODID:-//wp-events-plugin.com//6.6.3//EN
TZID:Europe/Berlin
X-WR-TIMEZONE:Europe/Berlin
BEGIN:VEVENT
UID:0-198@veranstaltungen.muenchen.de
DTSTART;TZID=Europe/Berlin:20240205T190000
DTEND;TZID=Europe/Berlin:20240205T213000
DTSTAMP:20240124T130217Z
URL:https://veranstaltungen.muenchen.de/raw/veranstaltungen/kino-europa-ko
 mbinat/
SUMMARY:Kino Europa: Das Kombinat
DESCRIPTION:\nDie Veranstaltung ist ausgebucht. \nSie können sich gerne au
 f die Warteliste setzen lassen. Wir melden uns sollten kurzfristig noch Pl
 ätze frei werden.\n&nbsp\;\n\nMontag\, 5. Februar 2024\, 19:00 Uhr | Proj
 ektor\, HP8\n(Hans-Preißinger-Straße 8\, 81379 München)\n\n&nbsp\;\n\nD
 eutschland 2023 | 90 min | Regie: Moritz Springer\n\n&nbsp\;\n\nDer Dokume
 ntarfilm von Moritz Springer begleitet über einen Zeitraum von 9 Jahren d
 as Kartoffelkombinat aus München auf seiner bewegten Reise von der ideali
 stischen Idee zur größten Solidarischen Landwirtschaft in Deutschland. M
 it dem Gemüseanbau treiben die beiden Gründer Daniel Überall und Simon 
 Scholl eine große Idee voran: eine Alternative zur kapitalistischen Produ
 ktionsweise zu finden. Sie fragen sich\, wie produzieren wir Dinge\, wer b
 esitzt die Produktionsmittel und wer soll am Ende von dieser Produktion pr
 ofitieren? Auf den Weg dorthin tauschen dann sowohl ganz konkrete gärtner
 ische als auch persönliche Probleme auf und plötzlich steht das Projekt 
 kurz vor dem Scheitern.\n\n&nbsp\;\n\nEs folgt ein Gespräch mit Daniel Ü
 berall\, Mitgründer und Vorstand im Kartoffelkombinat\, zum Film\, weiter
 en Hintergründen und zur Zukunft der Landwirtschaft in Deutschland und Eu
 ropa.\n\n&nbsp\;\n\nHier können Sie sich den Trailer zum Film ansehen: ZU
 M TRAILER\n\n&nbsp\;\n\nKino Europa wird Ihnen präsentiert vom Europe Dir
 ect München in Zusammenarbeit mit dem Creative Europe Desk München\, dem
  Verbindungsbüro des Europäischen Parlaments in München\, der Münchner
  Stadtbibliothek und der Petra-Kelly-Stiftung. Die Veranstaltung ist wie i
 mmer kostenlos. Der Veranstaltungsort ist barrierefrei zugänglich. Wir fr
 euen uns auf einen herausragenden europäischen Film!\n\n
LOCATION:HP 8 | Projektor\, Hans-Preißinger-Str. 8\, München\, Deutschlan
 d
GEO:48.111448;11.554188
X-APPLE-STRUCTURED-LOCATION;VALUE=URI;X-ADDRESS=Hans-Preißinger-Str. 8\, M
 ünchen\, Deutschland;X-APPLE-RADIUS=100;X-TITLE=HP 8 | Projektor:geo:48.1
 11448,11.554188
END:VEVENT
BEGIN:VTIMEZONE
TZID:Europe/Berlin
X-LIC-LOCATION:Europe/Berlin
BEGIN:STANDARD
DTSTART:20231029T020000
TZOFFSETFROM:+0200
TZOFFSETTO:+0100
TZNAME:CET
END:STANDARD
END:VTIMEZONE
END:VCALENDAR