
BEGIN:VCALENDAR
VERSION:2.0
PRODID:-//wp-events-plugin.com//6.6.3//EN
TZID:Europe/Berlin
X-WR-TIMEZONE:Europe/Berlin
BEGIN:VEVENT
UID:0-263@veranstaltungen.muenchen.de
DTSTART;TZID=Europe/Berlin:20241202T180000
DTEND;TZID=Europe/Berlin:20241202T203000
DTSTAMP:20241122T073639Z
URL:https://veranstaltungen.muenchen.de/raw/veranstaltungen/kino-europa-ju
 lie-keeps-quiet/
SUMMARY:Kino Europa: Julie bleibt still (Julie Keeps Quiet)\, OmdU
DESCRIPTION:HINWEIS: START DIESMAL UM 18 UHR!\n\n&nbsp\;\n\nMontag\, 2. Dez
 ember\, 18:00 Uhr | Projektor\, \n(Hans-Preißinger-Straße 8\, 81379 Mün
 chen)\n\n&nbsp\;\n\nBelgien\, Schweden 2024 | 100 Minuten | Regie: Leonard
 o Van Dijl |\n\nOriginalsprache: Niederländisch\, Französisch\n\n&nbsp\;
 \n\nJulie spielt Tennis an einer belgischen Tenniskademie und gilt als ein
 es der vielversprechendsten Talente des Landes. Eines Tages gerät ihr Tra
 iner Jérémy wegen fragwürdiger Trainingsmethoden unter Beschuss. Er wir
 d suspendiert und eine Untersuchung wird eingeleitet. Alle Spielerinnen de
 s Clubs sollen aussagen – auch Julie. Doch sie beschließt zu schweigen 
 – und trainiert weiter. Je mehr Menschen um sie herum sprechen\, desto g
 rößer wird der Druck auf sie.\n\n&nbsp\;\n\nLeonardo Van Dijls fesselnde
 s Regiedebüt erzählt leise\, doch umso eindringlicher von Macht und Kont
 rolle und gibt Einblick in das Innenleben einer jungen Sportlerin. „Juli
 e bleibt still“ feierte Weltpremiere im Rahmen der Critics' Week beim Fi
 lmfestival von Cannes\, wo der Film den Gan Foundation Award für Vertrieb
  und den SACD Award gewann. Der Film wurde als belgischer Beitrag für den
  besten internationalen Spielfilm bei den 97. Academy Awards ausgewählt u
 nd ist aktuell nominiert für den LUX-Publikumsfilmpreis 2025.\n\n&nbsp\;\
 n\nEs folgt ein Filmgespräch mit Adrian Prechtel\, Kinoredakteur der Aben
 dzeitung.\n\n&nbsp\;\n\nHier können Sie sich den Trailer zum Film ansehen
 : ZUM TRAILER\n\n&nbsp\;\n\nKino Europa wird Ihnen präsentiert vom Europe
  Direct München in Zusammenarbeit mit dem Creative Europe Desk München\,
  dem Verbindungsbüro des Europäischen Parlaments in München\, der Münc
 hner Stadtbibliothek und der Petra-Kelly-Stiftung. Die Veranstaltung ist w
 ie immer kostenlos. Der Veranstaltungsort ist barrierefrei zugänglich. Wi
 r freuen uns auf einen herausragenden europäischen Film!\n\n&nbsp\;\n\nHi
 nweis: Bitte melden Sie jede*n Teilnehmer*in einzeln mit Namen an.\n\n&nbs
 p\;\nBild: New Europe Film Sales\, Nicolas Karakatsanis\n&nbsp\;\nDie Vera
 nstaltung ist ausgebucht!\nBis zum Anmeldeschluss können sie sich auf die
  Warteliste eintragen.
ATTACH;FMTTYPE=image/jpeg:https://veranstaltungen.muenchen.de/raw/wp-conte
 nt/uploads/sites/13/JKQ_final_keystill-scaled.jpg
LOCATION:HP 8 | Projektor\, Hans-Preißinger-Str. 8\, München\, Deutschlan
 d
GEO:48.111448;11.554188
X-APPLE-STRUCTURED-LOCATION;VALUE=URI;X-ADDRESS=Hans-Preißinger-Str. 8\, M
 ünchen\, Deutschland;X-APPLE-RADIUS=100;X-TITLE=HP 8 | Projektor:geo:48.1
 11448,11.554188
END:VEVENT
BEGIN:VTIMEZONE
TZID:Europe/Berlin
X-LIC-LOCATION:Europe/Berlin
BEGIN:STANDARD
DTSTART:20241027T020000
TZOFFSETFROM:+0200
TZOFFSETTO:+0100
TZNAME:CET
END:STANDARD
END:VTIMEZONE
END:VCALENDAR