
BEGIN:VCALENDAR
VERSION:2.0
PRODID:-//wp-events-plugin.com//6.6.3//EN
TZID:Europe/Berlin
X-WR-TIMEZONE:Europe/Berlin
BEGIN:VEVENT
UID:0-337@veranstaltungen.muenchen.de
DTSTART;TZID=Europe/Berlin:20250922T183000
DTEND;TZID=Europe/Berlin:20250922T210000
DTSTAMP:20250917T064655Z
URL:https://veranstaltungen.muenchen.de/raw/veranstaltungen/kino-europa-a-
 light/
SUMMARY:Kino Europa: A Light That Never Goes Out (Jossain on valo joka ei s
 ammu)\, OmeU
DESCRIPTION:Montag\, 22. September\, 18:30 Uhr | Projektor\, \n(Hans-Preiß
 inger-Straße 8\, 81379 München)\n\n&nbsp\;\n\nFinnland/Norwegen 2025 | 1
 11 Min | Regie: Lauri-Matti Parppei\n\nWir zeigen den Film im finnischen O
 riginal mit englischen Untertiteln.\n\n&nbsp\;\n\nNach einem Zusammenbruch
  kehrt der klassische Flötist Pauli in seine kleine finnische Heimatstadt
  zurück. Unfähig\, sein Instrument zu spielen\, kämpft der 29-jährige 
 mit Gefühlen des Versagens. Pauli trifft auf liris\, eine alte Klassenkam
 eradin\, die immer noch in der Stadt lebt. Sie überzeugt ihn\, gemeinsam 
 Musik zu machen. Ihre chaotische Energie fasziniert Pauli\, der sein ganze
 s Leben lang nach Perfektion gestrebt hat. Nach und nach findet er in ihre
 n Klangexperimenten neuen Trost und Halt. Als alte Belastungen wieder auft
 auchen\, steht Pauli vor schwierigen Entscheidungen über seine Zukunft un
 d die Freundschaften\, die ihm neue Hoffnung gegeben haben.\n\n&nbsp\;\n\n
 Regisseur Lauri-Matti Parppei: „A Light That Never Goes Out handelt von 
 der Freude am Schaffen\, von Freundschaft und von der heilenden Kraft der 
 Kunst. Obwohl er schwere Themen anspricht\, tut er dies mit Wärme\, Hoffn
 ung und Humor - genau wie die eigenwillige\, verrückte Musik des Trios. I
 m Einklang mit der rohen Spontaneität des Films wurde jede musikalische D
 arbietung live aufgenommen\, ohne Partitur. Ich hoffe\, die Zuschauer verl
 assen das Kino mit dem Gedanken: Das könnte ich auch. Und vielleicht tun 
 sie das tatsächlich.“\n\n&nbsp\;\n\nHier können Sie sich den Trailer z
 um Film ansehen: ZUM TRAILER\n\n&nbsp\;\n\nEs folgt ein digitales Filmgesp
 räch per Videocall mit dem Regisseur\, Drehbuchautor und Komponisten des 
 Films\, Lauri-Matti Parppei.\n\n&nbsp\;\n\nKino Europa wird Ihnen präsent
 iert vom Europe Direct München in Zusammenarbeit mit dem Creative Europe 
 Desk München\, dem Verbindungsbüro des Europäischen Parlaments in Münc
 hen\, der Münchner Stadtbibliothek und der Petra-Kelly-Stiftung.\n\n&nbsp
 \;\n\nDie Veranstaltung ist wie immer kostenlos. Der Veranstaltungsort ist
  barrierefrei zugänglich. Wir freuen uns auf einen herausragenden europä
 ischen Film!\n\n&nbsp\;\nHinweis: Bitte melden Sie jede*n Teilnehmer*in ei
 nzeln mit Namen an.\nBildnachweis: Tero Ahonen/Mikko Parttimaa
ATTACH;FMTTYPE=image/jpeg:https://veranstaltungen.muenchen.de/raw/wp-conte
 nt/uploads/sites/13/ALightThat_Tero-AhonenMikko-Parttimaa-scaled.jpg
LOCATION:HP 8 | Projektor\, Hans-Preißinger-Str. 8\, München\, Deutschlan
 d
GEO:48.111448;11.554188
X-APPLE-STRUCTURED-LOCATION;VALUE=URI;X-ADDRESS=Hans-Preißinger-Str. 8\, M
 ünchen\, Deutschland;X-APPLE-RADIUS=100;X-TITLE=HP 8 | Projektor:geo:48.1
 11448,11.554188
END:VEVENT
BEGIN:VTIMEZONE
TZID:Europe/Berlin
X-LIC-LOCATION:Europe/Berlin
BEGIN:DAYLIGHT
DTSTART:20250330T030000
TZOFFSETFROM:+0100
TZOFFSETTO:+0200
TZNAME:CEST
END:DAYLIGHT
END:VTIMEZONE
END:VCALENDAR