
BEGIN:VCALENDAR
VERSION:2.0
PRODID:-//wp-events-plugin.com//6.6.3//EN
TZID:Europe/Berlin
X-WR-TIMEZONE:Europe/Berlin
BEGIN:VEVENT
UID:0-216@veranstaltungen.muenchen.de
DTSTART;TZID=Europe/Berlin:20240424T163000
DTEND;TZID=Europe/Berlin:20240424T180000
DTSTAMP:20240304T150348Z
URL:https://veranstaltungen.muenchen.de/raw/veranstaltungen/kick-off-europ
 a-mobil/
SUMMARY:KICK OFF Europa Mobil
DESCRIPTION:Frisch auf die Räder gestellt – Unser Europa-Mobil ist start
 klar!\n\n&nbsp\;\n\nFeiern Sie mit uns den offiziellen Kick-Off unseres br
 andneuen Europa-Mobils\, der den Auftakt zu unserer groß angelegten Stadt
 tour durch München markiert.\n\n&nbsp\;\n\nUnter dem Slogan #NutzeDeineSt
 imme tourt das Mobil ab Ende April durch München: Von den Münchner Stadt
 teil-Bibliotheken über die Fachreferate\, es begleitet Feierlichkeiten wi
 e den Stadtgeburtstag oder den Walk of Democracy und wird bei einigen Even
 ts des Europa-Mai zu sehen sein.\n\n&nbsp\;\n\nSind Sie neugierig geworden
 ? Dann feiern Sie mit uns den offiziellen Start unseres Europa-Mobils.\n\n
 &nbsp\;\n\nKICK-OFF Europa-Mobil \n\nmit Empfang im Innenhof des Referats 
 für Arbeit und Wirtschaft\n\n&nbsp\;\n\nWann: 24. April 2024\; Ankommen: 
 16:30\, Beginn 17:00 Uhr\n\nWo: Innenhof des Referats für Arbeit und Wirt
 schaft\, Herzog-Wilhelm-Straße 15\, 80331 München\n\n&nbsp\;\n\nFür all
 e\, die Interesse haben\, unsere München Tour zu unterstützen\, mitanzup
 acken und vielleicht selbst mal im Fahrerhäuschen zu sitzen\, findet ansc
 hließend an den Empfang von 18.00 – 19.00 Uhr eine Teamer*innen-Schulun
 g statt. Dort lernen Sie alle Kniffe und Tricks rund um das Europa-Mobil k
 ennen und können nach abgeschlossener Schulung als Teamer*in an unserer T
 our mitwirken.
LOCATION:Innenhof des Referats für Arbeit und Wirtschaft\, Herzog-Wilhelm-
 Straße 15\, München\, 80331 \, Deutschland
GEO:48.136239;11.56686
X-APPLE-STRUCTURED-LOCATION;VALUE=URI;X-ADDRESS=Herzog-Wilhelm-Straße 15\,
  München\, 80331 \, Deutschland;X-APPLE-RADIUS=100;X-TITLE=Innenhof des R
 eferats für Arbeit und Wirtschaft:geo:48.136239,11.56686
END:VEVENT
BEGIN:VTIMEZONE
TZID:Europe/Berlin
X-LIC-LOCATION:Europe/Berlin
BEGIN:DAYLIGHT
DTSTART:20240331T030000
TZOFFSETFROM:+0100
TZOFFSETTO:+0200
TZNAME:CEST
END:DAYLIGHT
END:VTIMEZONE
END:VCALENDAR