
BEGIN:VCALENDAR
VERSION:2.0
PRODID:-//wp-events-plugin.com//6.6.3//EN
TZID:Europe/Berlin
X-WR-TIMEZONE:Europe/Berlin
BEGIN:VEVENT
UID:0-280@veranstaltungen.muenchen.de
DTSTART;TZID=Europe/Berlin:20250709T100000
DTEND;TZID=Europe/Berlin:20250709T160000
DTSTAMP:20250708T080404Z
URL:https://veranstaltungen.muenchen.de/raw/veranstaltungen/inklusive-jobm
 esse-2025-einfache-sprache/
SUMMARY:Inklusive Jobmesse 2025 einfache Sprache
DESCRIPTION:Kommen Sie zur Inklusiven Jobmesse 2025 in München!\n\n&nbsp\;
 \n\nSuchen Sie eine Arbeit\, bei der Ihre Fähigkeiten wichtig sind?\n\nAu
 f der Inklusiven Jobmesse 2025 können Sie Arbeitgeber und Arbeitgeberinne
 n treffen\, die sich für Menschen mit Behinderung einsetzen.\n\n&nbsp\;\n
 \nDie Jobmesse ist am Mittwoch\, 9. Juli 2025\, im BiZ München.\nDie Mess
 e ist für Menschen mit Behinderung\, die eine Arbeit suchen oder sich ber
 uflich verändern möchten.\n\nSie können hier Arbeitgeber*innen aus Mün
 chen und Umgebung kennenlernen\, Kontakte knüpfen und Informationen über
  Arbeitsmöglichkeiten bekommen.\n\n&nbsp\;\n\nDarum sollten Sie kommen:\n
 \n 	Treffen Sie Arbeitgeber und Arbeitgeberinnen\, die offen für die Besc
 häftigung von Menschen mit Behinderung sind.\n 	Erfahren Sie mehr über f
 reie Arbeitsplätze in verschiedenen Berufen.\n 	Machen Sie kostenlose Bew
 erbungsfotos\, üben Sie digitale Bewerbungen und hören Sie spannende Vor
 träge.\n 	Sprechen Sie in einer barrierefreien Umgebung mit Fachleuten un
 d anderen Besuchern und Besucherinnen.\n\n&nbsp\;\n\nDie Teilnahme ist kos
 tenlos.\nEine Anmeldung ist nicht nötig.\nAber wenn Sie besondere Unterst
 ützung brauchen (z. B. Dolmetschen für Gebärdensprache\, Leichte Sprach
 e oder technische Hilfen)\, melden Sie sich bitte vorher an. Das hilft uns
 \, alles gut vorzubereiten.\n\n&nbsp\;\n\n&nbsp\;\n\nInfos zur Veranstaltu
 ng:\n\n&nbsp\;\n\n 	Flyer mit Programm und Liste aller Aussteller: https:/
 /veranstaltungen.muenchen.de/raw/wp-content/uploads/sites/13/Messeflyer-mi
 t-Standplan_fuer-Besucher_Inklusive_Jobmesse_Webversion.pdf\n\n \n\n 	Bar
 rierefreiheit:\n\n 	Für Rollstuhlfahrer*innen geeignet\n 	Ruheraum vorhan
 den\n 	Unterstützung wie Gebärdensprache\, Schriftdolmetschen oder Leich
 te Sprache nach Bedarf\n 	\nProgrammübersicht\nWo: Erdgeschoss im BiZ Saa
 l\n\n\n 	11:00 – 11:40 Uhr: Mein Arbeitsleben mit Handicap\nHolger Kiese
 l Beauftragter der Bayerischen Staatsregierung für die Belange von Mensch
 en mit Behinderung\n\n\n 	11:45 – 12:25 Uhr: Leistungsübersicht: Wo bek
 omme ich welche Unterstützung?\nMario Wierick Leitung Fachstelle für ber
 ufliche Wiedereingliederung\n\n\n 	12:30 – 13:10 Uhr: Wie bewerbe ich mi
 ch richtig?\nJohanna Hartmann bfz gGmbH München BewerbungsZentrum\n\n\n 	
 13:20 – 14:10 Uhr: Podiumsdiskussion mit Erfahrungsberichten\nBest Pract
 ice Beispiele aus der Arbeitswelt\n\n\n 	14:20 – 14:55 Uhr: Unterstützu
 ng ab Beginn des Arbeitsverhältnisses\nIFD/InA\n\n\n 	15:00 – 15:40 Uhr
 : Methoden und Techniken zur beruflichen Orientierung Berufsberatung im Er
 werbsleben\nAgentur für Arbeit\n\n \nKostenlose Aktionen\nWo: 1. Oberges
 choss im Raum Garching\n\n\n 	11:00 – 16:00 Uhr: Kostenfreies Fotoshooti
 ng für ein aktuelles Bewerbungsfoto\nOhne Anmeldung – einfach vorbei ko
 mmen\n 	11:00 – 16:00 Uhr: Digitales Bewerbertraining\nDurchgeführt dur
 ch Café CUP: Dein Weg in die digitale Welt\nKurzer Bewerbungsunterlagen-C
 heck auf Wunsch\nOhne Anmeldung – einfach vorbei kommen\n\n\n\n\n
LOCATION:BiZ\, Kapuzinerstraße 30\, München\, 80337\, Deutschland
GEO:48.125227;11.560698
X-APPLE-STRUCTURED-LOCATION;VALUE=URI;X-ADDRESS=Kapuzinerstraße 30\, Münc
 hen\, 80337\, Deutschland;X-APPLE-RADIUS=100;X-TITLE=BiZ:geo:48.125227,11.
 560698
END:VEVENT
BEGIN:VTIMEZONE
TZID:Europe/Berlin
X-LIC-LOCATION:Europe/Berlin
BEGIN:DAYLIGHT
DTSTART:20250330T030000
TZOFFSETFROM:+0100
TZOFFSETTO:+0200
TZNAME:CEST
END:DAYLIGHT
END:VTIMEZONE
END:VCALENDAR